Felt | Verdi |
2014-03-22T19:34:57+01:00 File 476 print 10x15 march 22.tif saved
2014-03-22T19:36:35+01:00 File 996 edit for print 10x 15 cm march 22.tif saved
2014-03-22T19:37:46+01:00 File _20110517-_P1U7679-665285D4D54D718410720B9113798B6F04C9.psb saved
2014-03-22T19:47:32+01:00 File 88v37.jpg saved
2014-03-22T19:48:09+01:00 File 0888yb7.jpg saved
2014-03-22T19:48:29+01:00 File 03yub7.jpg saved
2014-03-22T19:48:34+01:00 File _20110517-_P1U7679-665285D4D54D718410720B9113798B6F04C9.psb saved
2014-03-22T19:50:15+01:00 File 357yb.jpg saved
2014-03-25T18:05:39+01:00 File 357yb.jpg opened
2014-03-25T18:06:28+01:00 File 357yb.jpg saved
AlreadyApplied | True |
Aperture | 3.5 |
ApertureValue | 3.5 |
ApproximateFocusDistance | 1.71 |
Artist | Elisabeth Broch |
BitsPerSample (1) | 16 16 16 |
BitsPerSample | 8 |
BlueHue | 0 |
BlueSaturation | 0 |
Brightness | +14 |
By-line | Elisabeth Broch |
CameraProfile | Embedded |
ChromaticAberrationB | 0 |
ChromaticAberrationR | 0 |
CircleOfConfusion | 0.023 mm |
Clarity | +34 |
ColorComponents | 1 |
ColorMode | RGB |
ColorNoiseReduction | 18 |
ColorNoiseReductionDetail | 50 |
ColorSpace | sRGB |
Contrast | +28 |
ConvertToGrayscale | False |
Copyright | Copyright Elisabeth Broch |
CopyrightFlag | True |
CopyrightNotice | Copyright Elisabeth Broch |
CreateDate | 2011:05:17 15:59:05 |
Creator | Elisabeth Broch |
CreatorTool | Adobe Photoshop CS6 (Macintosh) |
CustomRendered | Normal |
DateCreated (1) | 2011:05:17 |
DateCreated | 2011:05:17 15:59:05.002 |
DateTimeOriginal | 2011:05:17 15:59:05 |
Defringe | 0 |
DOF | 0.19 m (1.62 - 1.81 m) |
ExifImageHeight | 733 |
ExifImageWidth | 1100 |
Exposure | 0.00 |
ExposureCompensation | +1/2 |
ExposureMode | Auto |
ExposureProgram | Shutter speed priority AE |
ExposureTime | 1/350 |
FillLight | 54 |
Firmware | 1.3.0 |
Flash | No Flash |
FlashCompensation | 0 |
FNumber | 3.5 |
FocalLength | 50.0 mm |
FocalLength35efl | 50.0 mm (35 mm equivalent: 64.1 mm) |
Format | image/jpeg |
FOV | 31.4 deg |
GradientBasedCorrActive | true |
GradientBasedCorrAmount | 1.000000 |
GradientBasedCorrBrightness | 0.000000 |
GradientBasedCorrClarity | 0.000000 |
GradientBasedCorrContrast | 0.000000 |
GradientBasedCorrExposure | -0.347615 |
GradientBasedCorrHue | 99.000000 |
GradientBasedCorrMaskFullX (1) | 0.903371 |
GradientBasedCorrMaskFullX (2) | 0.352385 |
GradientBasedCorrMaskFullX | 0.325826 |
GradientBasedCorrMaskFullY (1) | 0.111487 |
GradientBasedCorrMaskFullY (2) | 0.058774 |
GradientBasedCorrMaskFullY | 0.884805 |
GradientBasedCorrMaskValue | 1.000000 |
GradientBasedCorrMaskWhat | Mask/Gradient |
GradientBasedCorrMaskZeroX (1) | 0.683146 |
GradientBasedCorrMaskZeroX (2) | 0.609413 |
GradientBasedCorrMaskZeroX | 0.750747 |
GradientBasedCorrMaskZeroY (1) | 0.538852 |
GradientBasedCorrMaskZeroY (2) | 0.513860 |
GradientBasedCorrMaskZeroY | 0.538338 |
GradientBasedCorrSaturation | 0.000000 |
GradientBasedCorrSharpness | 0.000000 |
GradientBasedCorrWhat | Correction |
GrainAmount | 14 |
GrainFrequency | 50 |
GrainSize | 40 |
GreenHue | 0 |
GreenSaturation | 0 |
HasCrop | False |
HasSettings | True |
HighlightRecovery | 44 |
HueAdjustmentAqua | 0 |
HueAdjustmentBlue | 0 |
HueAdjustmentGreen | 0 |
HueAdjustmentMagenta | 0 |
HueAdjustmentOrange | 0 |
HueAdjustmentPurple | 0 |
HueAdjustmentRed | 0 |
HueAdjustmentYellow | 0 |
HyperfocalDistance | 30.46 m |
ICCProfileName | sRGB IEC61966-2.1 |
ImageHeight (1) | 2592 |
ImageHeight | 733 |
ImageNumber | 0 |
ImageSize | 1100x733 |
ImageWidth (1) | 3888 |
ImageWidth | 1100 |
IncrementalTemperature | 0 |
IncrementalTint | 0 |
ISO | 500 |
Lens | EF50mm f/1.2L USM |
LensID (1) | 241 |
LensID | Canon EF 50mm f/1.2L USM |
LensInfo | 50mm f/? |
LensManualDistortionAmount | 0 |
LensModel | EF50mm f/1.2L USM |
LensProfileEnable | 0 |
LensProfileSetup | LensDefaults |
LightValue | 9.7 |
LuminanceAdjustmentAqua | 0 |
LuminanceAdjustmentBlue | 0 |
LuminanceAdjustmentGreen | 0 |
LuminanceAdjustmentMagenta | 0 |
LuminanceAdjustmentOrange | 0 |
LuminanceAdjustmentPurple | 0 |
LuminanceAdjustmentRed | 0 |
LuminanceAdjustmentYellow | 0 |
LuminanceNoiseReductionContrast | 0 |
LuminanceNoiseReductionDetail | 50 |
LuminanceSmoothing | 26 |
Make | Canon |
Marked | True |
MaxApertureValue | 1.2 |
Megapixels | 0.806 |
MeteringMode | Multi-segment |
Model | Canon EOS-1D Mark III |
ModifyDate (1) | 2014:03:25 18:06:28+01:00 |
ModifyDate | 2014:03:25 18:06:28 |
Orientation | Horizontal (normal) |
ParametricDarks | 0 |
ParametricHighlights | -50 |
ParametricHighlightSplit | 75 |
ParametricLights | 0 |
ParametricMidtoneSplit | 50 |
ParametricShadows | 0 |
ParametricShadowSplit | 25 |
PerspectiveHorizontal | 0 |
PerspectiveRotate | 0.0 |
PerspectiveScale | 100 |
PerspectiveVertical | 0 |
PhotometricInterpretation | RGB |
PlanarConfiguration | Chunky |
PostCropVignetteAmount | 0 |
ProcessVersion | 5.7 |
ProfileDescription | sRGB IEC61966-2.1 |
RedHue | 0 |
RedSaturation | 0 |
Rights | Copyright Elisabeth Broch |
Saturation | -11 |
SaturationAdjustmentAqua | 0 |
SaturationAdjustmentBlue | 0 |
SaturationAdjustmentGreen | 0 |
SaturationAdjustmentMagenta | 0 |
SaturationAdjustmentOrange | 0 |
SaturationAdjustmentPurple | 0 |
SaturationAdjustmentRed | 0 |
SaturationAdjustmentYellow | 0 |
ScaleFactor35efl | 1.3 |
SceneCaptureType | Standard |
SensitivityType | Unknown |
SerialNumber | 537691 |
Shadows | 30 |
ShadowTint | 0 |
SharpenDetail | 25 |
SharpenEdgeMasking | 10 |
SharpenRadius | +1.0 |
Sharpness | 13 |
ShutterSpeed | 1/350 |
ShutterSpeedValue | 1/350 |
Software | Adobe Photoshop CS6 (Macintosh) |
SplitToningBalance | 0 |
SplitToningHighlightHue | 0 |
SplitToningHighlightSaturation | 0 |
SplitToningShadowHue | 0 |
SplitToningShadowSaturation | 0 |
SubjectDistance | 1.71 m |
ToneCurve | 0, 0, 255, 255 |
ToneCurveName | Linear |
URL_List | |
Version | 6.2 |
Vibrance | 0 |
VignetteAmount | 0 |
WhiteBalance (1) | As Shot |
WhiteBalance | Auto |