Felt | Verdi |
2014-03-05T10:02:59+01:00 File 588 ediyts march 5.tif saved
2014-03-05T10:04:04+01:00 File 4988 edit 2 march 5.tif saved
2014-03-05T10:06:17+01:00 File 00573, children.tif saved
2014-03-05T10:06:53+01:00 File 0937000, children.tif saved
2014-03-05T10:08:53+01:00 File 88b37, children.jpg saved
AlreadyApplied | True |
Aperture | 6.3 |
ApertureValue | 6.3 |
ApproximateFocusDistance | 11.3 |
AutoLateralCA | 0 |
AutoWhiteVersion | 134348800 |
BitsPerSample (1) | 16 16 16 |
BitsPerSample | 8 |
Blacks2012 | -86 |
BlueHue | 0 |
BlueSaturation | 0 |
CameraProfile | Adobe Standard |
CircleOfConfusion | 0.031 mm |
Clarity2012 | +6 |
ColorComponents | 3 |
ColorMode | RGB |
ColorNoiseReduction | 27 |
ColorNoiseReductionDetail | 50 |
ColorNoiseReductionSmoothness | 50 |
ColorSpace | sRGB |
ColorTemperature | 6706 |
Contrast2012 | +9 |
ConvertToGrayscale | False |
CreateDate | 2011:04:18 17:42:45 |
CreatorTool | Adobe Photoshop Lightroom 5.3 (Macintosh) |
CropAngle | -0.291994 |
CropBottom | 0.714488 |
CropConstrainToWarp | 0 |
CropLeft | 0.123227 |
CropRight | 0.591346 |
CropTop | 0.248887 |
CustomRendered | Normal |
DateCreated (1) | 2011:04:18 |
DateCreated | 2011:04:18 17:42:45.012-07:00 |
DateTimeOriginal | 2011:04:18 17:42:45 |
DefringeGreenAmount | 0 |
DefringeGreenHueHi | 60 |
DefringeGreenHueLo | 40 |
DefringePurpleAmount | 0 |
DefringePurpleHueHi | 70 |
DefringePurpleHueLo | 30 |
DOF | 1.51 m (10.59 - 12.11 m) |
ExifImageHeight | 738 |
ExifImageWidth | 1100 |
Exposure2012 | +1.95 |
ExposureCompensation | +2/3 |
ExposureMode | Auto |
ExposureProgram | Aperture-priority AE |
ExposureTime | 1/640 |
Firmware | 2.0.8 |
Flash | Off, Did not fire |
FlashCompensation | 0 |
FNumber | 6.3 |
FocalLength | 180.0 mm |
FocalLength35efl | 180.0 mm (35 mm equivalent: 175.7 mm) |
Format | image/jpeg |
FOV | 11.7 deg |
GrainAmount | 7 |
GrainFrequency | 50 |
GrainSize | 17 |
GreenHue | 0 |
GreenSaturation | 0 |
HasCrop | True |
HasSettings | True |
Highlights2012 | -2 |
HueAdjustmentAqua | 0 |
HueAdjustmentBlue | -16 |
HueAdjustmentGreen | 0 |
HueAdjustmentMagenta | 0 |
HueAdjustmentOrange | 0 |
HueAdjustmentPurple | 0 |
HueAdjustmentRed | 0 |
HueAdjustmentYellow | 0 |
HyperfocalDistance | 167.05 m |
ICCProfileName | sRGB IEC61966-2.1 |
ImageHeight (1) | 1757 |
ImageHeight | 738 |
ImageNumber | 0 |
ImageSize | 1100x738 |
ImageWidth (1) | 2620 |
ImageWidth | 1100 |
ISO | 1000 |
Lens | EF70-200mm f/2.8L IS USM +1.4x |
LensID (1) | 225 |
LensID | Canon EF 70-200mm f/2.8L IS USM + 1.4x |
LensInfo | 98-280mm f/? |
LensManualDistortionAmount | 0 |
LensModel | EF70-200mm f/2.8L IS USM +1.4x |
LensProfileEnable | 0 |
LensProfileSetup | LensDefaults |
LightValue | 11.3 |
LuminanceAdjustmentAqua | 0 |
LuminanceAdjustmentBlue | 0 |
LuminanceAdjustmentGreen | 0 |
LuminanceAdjustmentMagenta | 0 |
LuminanceAdjustmentOrange | +30 |
LuminanceAdjustmentPurple | 0 |
LuminanceAdjustmentRed | 0 |
LuminanceAdjustmentYellow | +12 |
LuminanceNoiseReductionContrast | 0 |
LuminanceNoiseReductionDetail | 50 |
LuminanceSmoothing | 25 |
Make | Canon |
MaxApertureValue | 4.0 |
Megapixels | 0.812 |
MeteringMode | Multi-segment |
Model | Canon EOS 5D Mark II |
ModifyDate (1) | 2014:03:05 10:08:53+01:00 |
ModifyDate | 2014:03:05 10:08:53 |
Orientation | Horizontal (normal) |
PaintCorrectionActive | true |
PaintCorrectionAmount | 1.000000 |
PaintCorrectionBrightness | 0.000000 |
PaintCorrectionClarity2012 (1) | 0.289288 |
PaintCorrectionClarity2012 | 0.158842 |
PaintCorrectionContrast2012 | 0.125338 |
PaintCorrectionDefringe | -0.001239 |
PaintCorrectionExposure2012 (1) | -0.034781 |
PaintCorrectionExposure2012 | 0.098971 |
PaintCorrectionHighlights2012 | 0.056265 |
PaintCorrectionHue | 36.417999 |
PaintCorrectionLuminanceNoise (1) | 0.281663 |
PaintCorrectionLuminanceNoise | 0.407978 |
PaintCorrectionMaskCenterWeight | 0.050679 |
PaintCorrectionMaskFlow | 0.840948 |
PaintCorrectionMaskRadius (1) | 0.013168 |
PaintCorrectionMaskRadius | 0.012170 |
PaintCorrectionMaskValue | 0.494531 |
PaintCorrectionMaskWhat | Mask/Paint |
PaintCorrectionMoire | 0.000000 |
PaintCorrectionSaturation (1) | -0.056190 |
PaintCorrectionSaturation (3) | -0.348107 |
PaintCorrectionSaturation | 0.000000 |
PaintCorrectionShadows2012 (1) | -0.109901 |
PaintCorrectionShadows2012 | 0.218187 |
PaintCorrectionSharpness | 0.096004 |
PaintCorrectionTemperature (1) | 0.022574 |
PaintCorrectionTemperature | 0.163875 |
PaintCorrectionTint (1) | -0.121807 |
PaintCorrectionTint | 0.023250 |
PaintCorrectionWhat | Correction |
ParametricDarks | 0 |
ParametricHighlights | 0 |
ParametricHighlightSplit | 75 |
ParametricLights | 0 |
ParametricMidtoneSplit | 50 |
ParametricShadows | 0 |
ParametricShadowSplit | 25 |
PerspectiveAspect | 0 |
PerspectiveHorizontal | 0 |
PerspectiveRotate | 0.0 |
PerspectiveScale | 100 |
PerspectiveUpright | 0 |
PerspectiveVertical | 0 |
PhotometricInterpretation | RGB |
PlanarConfiguration | Chunky |
PostCropVignetteAmount | 0 |
ProcessVersion | 6.7 |
ProfileDescription | sRGB IEC61966-2.1 |
RedHue | 0 |
RedSaturation | 0 |
Saturation | -23 |
SaturationAdjustmentAqua | +13 |
SaturationAdjustmentBlue | +15 |
SaturationAdjustmentGreen | 0 |
SaturationAdjustmentMagenta | -35 |
SaturationAdjustmentOrange | -12 |
SaturationAdjustmentPurple | 0 |
SaturationAdjustmentRed | -16 |
SaturationAdjustmentYellow | 0 |
ScaleFactor35efl | 1.0 |
SceneCaptureType | Standard |
SerialNumber | 2531504887 |
Shadows2012 | +45 |
ShadowTint | 0 |
SharpenDetail | 25 |
SharpenEdgeMasking | 17 |
SharpenRadius | +1.0 |
Sharpness | 0 |
ShutterSpeed | 1/640 |
ShutterSpeedValue | 1/640 |
Software | Adobe Photoshop CS6 (Macintosh) |
SplitToningBalance | 0 |
SplitToningHighlightHue | 0 |
SplitToningHighlightSaturation | 0 |
SplitToningShadowHue | 210 |
SplitToningShadowSaturation | 3 |
SubjectDistance | 11.3 m |
Tint | -3 |
ToneCurveName2012 | Linear |
ToneCurvePV2012 | 0, 0, 255, 255 |
ToneCurvePV2012Blue | 0, 0, 255, 255 |
ToneCurvePV2012Green | 0, 0, 255, 255 |
ToneCurvePV2012Red | 0, 0, 255, 255 |
URL_List | |
Version | 8.3 |
Vibrance | -2 |
VignetteAmount | 0 |
WhiteBalance (1) | Custom |
WhiteBalance | Auto |
Whites2012 | +7 |