Felt | Verdi |
AlreadyApplied | True |
Aperture | 4.0 |
ApertureValue | 4.0 |
ApproximateFocusDistance | 50.1 |
Artist | Ruben Johnsen |
BitsPerSample | 8 |
BlueHue | 0 |
BlueSaturation | 0 |
Brightness | +50 |
By-line | Ruben Johnsen |
CameraProfile | Camera Portrait |
CFAPattern | [Red,Green][Green,Blue] |
ChromaticAberrationB | 0 |
ChromaticAberrationR | 0 |
CircleOfConfusion | 0.030 mm |
Clarity | 0 |
ColorComponents | 3 |
ColorNoiseReduction | 25 |
ColorNoiseReductionDetail | 50 |
ColorTemperature | 4800 |
Contrast (1) | +25 |
Contrast | Normal |
ConvertToGrayscale | False |
Copyright | Ruben Johnsen |
CopyrightNotice | Ruben Johnsen |
CreateDate (1) | 2012:07:10 04:20:44.55 |
CreateDate | 2012:07:10 04:20:44 |
Creator | Ruben Johnsen |
CreatorAddress | Planetveien 357 |
CreatorTool | Adobe Photoshop Lightroom 3.5 (Macintosh) |
CreatorWorkEmail | rubenfoto@hotmail.no |
CreatorWorkTelephone | 47859511 |
CropAngle | 0 |
CropBottom | 0.733315 |
CropConstrainToWarp | 0 |
CropHeight | 1024 |
CropLeft | 0.384155 |
CropRight | 0.774792 |
CropTop | 0 |
CropUnit | pixels |
CropWidth | 820 |
CustomRendered | Normal |
DateCreated (1) | 2012:07:10 |
DateCreated | 2012:07:10 04:20:44.55 |
DateTimeOriginal | 2012:07:10 04:20:44 |
Defringe | 0 |
DigitalZoomRatio | 1 |
DOF | 6.69 m (46.98 - 53.67 m) |
Exposure | +0.10 |
ExposureCompensation | 0 |
ExposureMode | Auto |
ExposureProgram | Aperture-priority AE |
ExposureTime | 1/250 |
FillLight | 0 |
Flash | No Flash |
FNumber | 4.0 |
FocalLength | 300.0 mm |
FocalLength35efl | 300.0 mm (35 mm equivalent: 300.0 mm) |
FocalLengthIn35mmFormat | 300 mm |
FOV | 6.9 deg |
GainControl | High gain up |
GrainAmount | 0 |
GreenHue | 0 |
GreenSaturation | 0 |
HasCrop | True |
HasSettings | True |
HighlightRecovery | 6 |
HueAdjustmentAqua | 0 |
HueAdjustmentBlue | 0 |
HueAdjustmentGreen | 0 |
HueAdjustmentMagenta | 0 |
HueAdjustmentOrange | 0 |
HueAdjustmentPurple | 0 |
HueAdjustmentRed | 0 |
HueAdjustmentYellow | 0 |
HyperfocalDistance | 748.85 m |
ImageHeight | 1024 |
ImageNumber | 40589 |
ImageSize | 820x1024 |
ImageWidth | 820 |
ISO | 1000 |
Lens | 300.0 mm f/2.8 |
LensID (1) | 109 |
LensID | AF-S Nikkor 300mm f/2.8D IF-ED II |
LensInfo | 300mm f/2.8 |
LensManualDistortionAmount | 0 |
LensModel | 300.0 mm f/2.8 |
LensProfileEnable | 0 |
LensProfileSetup | LensDefaults |
LightSource | Unknown |
LightValue | 8.6 |
LuminanceAdjustmentAqua | 0 |
LuminanceAdjustmentBlue | 0 |
LuminanceAdjustmentGreen | 0 |
LuminanceAdjustmentMagenta | 0 |
LuminanceAdjustmentOrange | 0 |
LuminanceAdjustmentPurple | 0 |
LuminanceAdjustmentRed | 0 |
LuminanceAdjustmentYellow | 0 |
LuminanceNoiseReductionContrast | 0 |
LuminanceNoiseReductionDetail | 100 |
LuminanceSmoothing | 53 |
Make | NIKON CORPORATION |
MaxApertureValue | 2.8 |
Megapixels | 0.840 |
MeteringMode | Multi-segment |
Model | NIKON D3 |
ModifyDate (1) | 2012:08:12 21:22:32+02:00 |
ModifyDate | 2012:08:12 21:22:32 |
PaintCorrectionActive | true |
PaintCorrectionAmount | 1.000000 |
PaintCorrectionBrightness | 0.000000 |
PaintCorrectionClarity (3) | 0.053676 |
PaintCorrectionClarity | 0.111397 |
PaintCorrectionContrast (1) | 0.321967 |
PaintCorrectionContrast (3) | 0.116912 |
PaintCorrectionContrast (4) | 0.018658 |
PaintCorrectionContrast | 0.047518 |
PaintCorrectionExposure (1) | -0.054504 |
PaintCorrectionExposure (2) | -0.060662 |
PaintCorrectionExposure (3) | 0.000000 |
PaintCorrectionExposure (4) | 0.117463 |
PaintCorrectionExposure | 0.011949 |
PaintCorrectionHue | 0.000000 |
PaintCorrectionMaskCenterWeight | 0.333603 |
PaintCorrectionMaskFlow | 0.590036 |
PaintCorrectionMaskRadius (1) | 0.131813 |
PaintCorrectionMaskRadius (10) | 0.004769 |
PaintCorrectionMaskRadius (6) | 0.097588 |
PaintCorrectionMaskRadius (7) | 0.081712 |
PaintCorrectionMaskRadius (8) | 0.052435 |
PaintCorrectionMaskRadius (9) | 0.045631 |
PaintCorrectionMaskRadius | 0.019258 |
PaintCorrectionMaskValue | 1.000000 |
PaintCorrectionMaskWhat | Mask/Paint |
PaintCorrectionSaturation (1) | 0.473897 |
PaintCorrectionSaturation (5) | 0.118199 |
PaintCorrectionSaturation (7) | 0.048162 |
PaintCorrectionSaturation | 0.000000 |
PaintCorrectionSharpness (1) | 0.077206 |
PaintCorrectionSharpness (3) | 0.220404 |
PaintCorrectionSharpness (4) | 0.071048 |
PaintCorrectionSharpness | 0.355515 |
PaintCorrectionWhat | Correction |
ParametricDarks | 0 |
ParametricHighlights | 0 |
ParametricHighlightSplit | 75 |
ParametricLights | 0 |
ParametricMidtoneSplit | 50 |
ParametricShadows | 0 |
ParametricShadowSplit | 25 |
PerspectiveHorizontal | 0 |
PerspectiveRotate | 0.0 |
PerspectiveScale | 100 |
PerspectiveVertical | 0 |
PostCropVignetteAmount | 0 |
ProcessVersion | 5.7 |
ProfileDescription | sRGB IEC61966-2.1 |
RedHue | 0 |
RedSaturation | 0 |
Rights | Ruben Johnsen |
Saturation (1) | 0 |
Saturation | Normal |
SaturationAdjustmentAqua | 0 |
SaturationAdjustmentBlue | 0 |
SaturationAdjustmentGreen | 0 |
SaturationAdjustmentMagenta | 0 |
SaturationAdjustmentOrange | 0 |
SaturationAdjustmentPurple | 0 |
SaturationAdjustmentRed | 0 |
SaturationAdjustmentYellow | 0 |
ScaleFactor35efl | 1.0 |
SceneCaptureType | Standard |
SceneType | Directly photographed |
SensingMethod | One-chip color area |
SerialNumber | 2059492 |
Shadows | 5 |
ShadowTint | 0 |
SharpenDetail | 25 |
SharpenEdgeMasking | 0 |
SharpenRadius | +1.2 |
Sharpness (1) | 56 |
Sharpness | Normal |
ShutterSpeed | 1/250 |
ShutterSpeedValue | 1/250 |
Software | Adobe Photoshop Lightroom 3.5 (Macintosh) |
SplitToningBalance | 0 |
SplitToningHighlightHue | 0 |
SplitToningHighlightSaturation | 0 |
SplitToningShadowHue | 0 |
SplitToningShadowSaturation | 0 |
SubjectDistance | 50.1 m |
SubjectDistanceRange | Unknown |
Tint | +17 |
ToneCurve | 0, 0, 32, 22, 64, 56, 128, 128, 192, 196, 255, 255 |
ToneCurveName | Medium Contrast |
Version | 6.5 |
Vibrance | 0 |
VignetteAmount | 0 |
WhiteBalance (1) | As Shot |
WhiteBalance | Auto |