Felt | Verdi |
AlreadyApplied | True |
Aperture | 2.8 |
ApertureValue | 2.8 |
Artist | Frode Edvindsen |
BitsPerSample | 8 |
BlueHue | 0 |
BlueSaturation | 0 |
Brightness | +50 |
By-line | Frode Edvindsen |
CameraProfile | Adobe Standard |
ChromaticAberrationB | 0 |
ChromaticAberrationR | 0 |
CircleOfConfusion | 0.019 mm |
Clarity | +31 |
ColorComponents | 3 |
ColorNoiseReduction | 25 |
ColorNoiseReductionDetail | 50 |
ColorTemperature | 5900 |
Contrast | +43 |
ConvertToGrayscale | False |
Copyright | E-mail:frode.edvindsen@yahoo.no |
CopyrightNotice | E-mail:frode.edvindsen@yahoo.no |
CreateDate (1) | 2012:03:27 15:37:25.71 |
CreateDate | 2012:03:27 15:37:25 |
Creator | Frode Edvindsen |
CreatorTool | Adobe Photoshop Lightroom 3.5 (Windows) |
CropAngle | 0 |
CropBottom | 0.771218 |
CropConstrainToWarp | 0 |
CropHeight | 2665 |
CropLeft | 0.228782 |
CropRight | 1 |
CropTop | 0 |
CropUnit | pixels |
CropWidth | 3998 |
CustomRendered | Normal |
DateCreated (1) | 2012:03:27 |
DateCreated | 2012:03:27 15:37:25.71 |
DateTimeOriginal | 2012:03:27 15:37:25 |
Defringe | 0 |
Exposure | 0.00 |
ExposureCompensation | 0 |
ExposureMode | Manual |
ExposureProgram | Manual |
ExposureTime | 1/1600 |
FillLight | 15 |
Firmware | 1.2.5 |
Flash | Off, Did not fire |
FlashCompensation | 0 |
FNumber | 2.8 |
FocalLength | 110.0 mm |
FocalLength35efl | 110.0 mm (35 mm equivalent: 172.7 mm) |
FOV | 11.9 deg |
GrainAmount | 0 |
GreenHue | 0 |
GreenSaturation | 0 |
HasCrop | True |
HasSettings | True |
HighlightRecovery | 33 |
HueAdjustmentAqua | 0 |
HueAdjustmentBlue | 0 |
HueAdjustmentGreen | 0 |
HueAdjustmentMagenta | 0 |
HueAdjustmentOrange | 0 |
HueAdjustmentPurple | 0 |
HueAdjustmentRed | 0 |
HueAdjustmentYellow | 0 |
HyperfocalDistance | 225.85 m |
ImageHeight | 2665 |
ImageNumber | 0 |
ImageSize | 3998x2665 |
ImageWidth | 3998 |
ISO | 100 |
Lens | EF80-200mm f/2.8L |
LensID (1) | 21 |
LensID | Canon EF 80-200mm f/2.8L |
LensInfo | 80-200mm f/? |
LensManualDistortionAmount | 0 |
LensModel | EF80-200mm f/2.8L |
LensProfileEnable | 0 |
LensProfileSetup | LensDefaults |
LightValue | 13.6 |
LuminanceAdjustmentAqua | 0 |
LuminanceAdjustmentBlue | 0 |
LuminanceAdjustmentGreen | 0 |
LuminanceAdjustmentMagenta | 0 |
LuminanceAdjustmentOrange | 0 |
LuminanceAdjustmentPurple | 0 |
LuminanceAdjustmentRed | 0 |
LuminanceAdjustmentYellow | 0 |
LuminanceNoiseReductionContrast | 24 |
LuminanceNoiseReductionDetail | 50 |
LuminanceSmoothing | 20 |
Make | Canon |
MaxApertureValue | 2.8 |
Megapixels | 10.7 |
MeteringMode | Spot |
Model | Canon EOS 7D |
ModifyDate (1) | 2012:03:28 01:43:18+02:00 |
ModifyDate | 2012:03:28 01:43:18 |
ParametricDarks | 0 |
ParametricHighlights | 0 |
ParametricHighlightSplit | 75 |
ParametricLights | 0 |
ParametricMidtoneSplit | 50 |
ParametricShadows | 0 |
ParametricShadowSplit | 25 |
PerspectiveHorizontal | 0 |
PerspectiveRotate | 0.0 |
PerspectiveScale | 100 |
PerspectiveVertical | 0 |
PostCropVignetteAmount | 0 |
ProcessVersion | 5.7 |
ProfileDescription | sRGB IEC61966-2.1 |
RedHue | 0 |
RedSaturation | 0 |
Rights | E-mail:frode.edvindsen@yahoo.no |
Saturation | +22 |
SaturationAdjustmentAqua | 0 |
SaturationAdjustmentBlue | 0 |
SaturationAdjustmentGreen | 0 |
SaturationAdjustmentMagenta | 0 |
SaturationAdjustmentOrange | 0 |
SaturationAdjustmentPurple | 0 |
SaturationAdjustmentRed | 0 |
SaturationAdjustmentYellow | 0 |
ScaleFactor35efl | 1.6 |
SceneCaptureType | Standard |
SerialNumber | 2581203255 |
Shadows | 36 |
ShadowTint | 0 |
SharpenDetail | 25 |
SharpenEdgeMasking | 0 |
SharpenRadius | +1.0 |
Sharpness | 57 |
ShutterSpeed | 1/1600 |
ShutterSpeedValue | 1/1600 |
Software | Adobe Photoshop Lightroom 3.5 (Windows) |
SplitToningBalance | 0 |
SplitToningHighlightHue | 0 |
SplitToningHighlightSaturation | 0 |
SplitToningShadowHue | 0 |
SplitToningShadowSaturation | 0 |
Tint | +14 |
ToneCurve | 0, 0, 32, 22, 64, 56, 128, 128, 192, 196, 255, 255 |
ToneCurveName | Medium Contrast |
Version | 6.5 |
Vibrance | +31 |
VignetteAmount | 0 |
WhiteBalance (1) | As Shot |
WhiteBalance | Auto |