Felt | Verdi |
AlreadyApplied | True |
Aperture | 18.0 |
ApertureValue | 18.0 |
BitsPerSample | 8 |
BlueHue | 0 |
BlueSaturation | 0 |
Brightness | 0 |
CameraProfile | Embedded |
ChromaticAberrationB | 0 |
ChromaticAberrationR | 0 |
Clarity | +43 |
ColorComponents | 3 |
ColorNoiseReduction | 0 |
Contrast | +15 |
ConvertToGrayscale | False |
CreateDate (1) | 2012:02:25 14:07:37+01:00 |
CreateDate | 2012:02:25 14:07:37 |
CreatorTool | Adobe Photoshop Lightroom |
CropAngle | 2.4231 |
CropBottom | 1 |
CropConstrainToWarp | 0 |
CropHeight | 2100 |
CropLeft | 0.190865 |
CropRight | 0.977174 |
CropTop | 0.139506 |
CropUnit | pixels |
CropWidth | 3150 |
DateTimeDigitized | 2012:02:25 14:07:37+01:00 |
DateTimeOriginal (1) | 2012:02:25 14:07:37+01:00 |
DateTimeOriginal | 2012:02:25 14:07:37 |
Defringe | 0 |
ExifImageHeight | 2100 |
ExifImageWidth | 3150 |
Exposure | 0.00 |
ExposureCompensation | 0 |
ExposureProgram | Shutter speed priority AE |
ExposureTime | 1/160 |
FillLight | 0 |
Flash | Off, Did not fire |
FlashFired | False |
FlashFunction | False |
FlashMode | Off |
FlashRedEyeMode | False |
FlashReturn | No return detection |
FNumber | 18.0 |
FocalLength | 10.0 mm |
FocalLength35efl | 10.0 mm |
GradientBasedCorrActive | true |
GradientBasedCorrAmount | 1.000000 |
GradientBasedCorrBrightness | 0.035294 |
GradientBasedCorrClarity | 0.035294 |
GradientBasedCorrContrast | 0.741176 |
GradientBasedCorrExposure | 0.623529 |
GradientBasedCorrHue | 192.000000 |
GradientBasedCorrMaskFullX | 0.656103 |
GradientBasedCorrMaskFullY | 0.832746 |
GradientBasedCorrMaskValue | 1.000000 |
GradientBasedCorrMaskWhat | Mask/Gradient |
GradientBasedCorrMaskZeroX | 0.607981 |
GradientBasedCorrMaskZeroY | 0.332746 |
GradientBasedCorrSaturation (1) | 0.388235 |
GradientBasedCorrSaturation | 0.000000 |
GradientBasedCorrSharpness | 1.000000 |
GradientBasedCorrWhat | Correction |
GrainAmount | 0 |
GreenHue | 0 |
GreenSaturation | 0 |
HasCrop | True |
HasSettings | True |
HighlightRecovery | 100 |
HueAdjustmentAqua | 0 |
HueAdjustmentBlue | 0 |
HueAdjustmentGreen | 0 |
HueAdjustmentMagenta | 0 |
HueAdjustmentOrange | 0 |
HueAdjustmentPurple | 0 |
HueAdjustmentRed | 0 |
HueAdjustmentYellow | 0 |
ImageHeight | 2100 |
ImageSize | 3150x2100 |
ImageWidth | 3150 |
IncrementalTemperature | 0 |
IncrementalTint | 0 |
ISO | 100 |
LensManualDistortionAmount | 0 |
LensProfileEnable | 0 |
LensProfileSetup | LensDefaults |
LightValue | 15.7 |
LuminanceAdjustmentAqua | 0 |
LuminanceAdjustmentBlue | 0 |
LuminanceAdjustmentGreen | 0 |
LuminanceAdjustmentMagenta | 0 |
LuminanceAdjustmentOrange | 0 |
LuminanceAdjustmentPurple | 0 |
LuminanceAdjustmentRed | 0 |
LuminanceAdjustmentYellow | 0 |
LuminanceNoiseReductionContrast | 0 |
LuminanceNoiseReductionDetail | 50 |
LuminanceSmoothing | 10 |
Make | Canon |
MaxApertureValue | 4.0 |
Megapixels | 6.6 |
MeteringMode | Partial |
Model | Canon EOS 20D |
ModifyDate (1) | 2012:02:29 11:51:42+01:00 |
ModifyDate | 2012:02:29 11:51:42 |
ParametricDarks | 0 |
ParametricHighlights | 0 |
ParametricHighlightSplit | 75 |
ParametricLights | 0 |
ParametricMidtoneSplit | 50 |
ParametricShadows | 0 |
ParametricShadowSplit | 25 |
PerspectiveHorizontal | 0 |
PerspectiveRotate | 0.0 |
PerspectiveScale | 100 |
PerspectiveVertical | 0 |
PostCropVignetteAmount | 0 |
ProcessVersion | 5.7 |
ProfileDescription | sRGB IEC61966-2.1 |
RedHue | 0 |
RedSaturation | 0 |
Saturation | +20 |
SaturationAdjustmentAqua | 0 |
SaturationAdjustmentBlue | 0 |
SaturationAdjustmentGreen | 0 |
SaturationAdjustmentMagenta | 0 |
SaturationAdjustmentOrange | 0 |
SaturationAdjustmentPurple | 0 |
SaturationAdjustmentRed | 0 |
SaturationAdjustmentYellow | 0 |
Shadows | 0 |
ShadowTint | 0 |
SharpenDetail | 25 |
SharpenEdgeMasking | 0 |
SharpenRadius | +1.0 |
Sharpness | 0 |
ShutterSpeed | 1/160 |
ShutterSpeedValue | 1/160 |
Software | QuickTime 7.6.6 |
SplitToningBalance | 0 |
SplitToningHighlightHue | 0 |
SplitToningHighlightSaturation | 0 |
SplitToningShadowHue | 0 |
SplitToningShadowSaturation | 0 |
ToneCurve | 0, 0, 255, 255 |
ToneCurveName | Linear |
Version | 6.1 |
Vibrance | +20 |
VignetteAmount | 0 |
WhiteBalance | Custom |