Felt | Verdi |
AlreadyApplied | True |
Aperture | 9.0 |
ApertureValue | 9.0 |
Artist | Kristjan Logason |
AutoLateralCA | 0 |
BitsPerSample | 8 |
Blacks2012 | +6 |
BlueHue | 0 |
BlueSaturation | 0 |
Brightness | +50 |
By-line | Kristjan Logason |
By-lineTitle | Photographer |
CameraProfile | Camera Portrait |
Caption-Abstract | Came in contact with Sergio Castro Martines through Museo de Trajes Regionales when we where in San Cristobal de las Casas. He is a remarkable man that has been helping the indians in Chiapas for a long time. He is by training an agricultural engineer, teacher and veterinarian. However, by nature he is a true humanitarian, ethnologist and polyglot. Sergio has spent more than 45 years helping to build schools, develop water treatment systems and provide wound care for burn victims for the many indigenous cultures and Mexican people of Chiapas.
CircleOfConfusion | 0.030 mm |
City | Chiapilla |
Clarity | 0 |
Clarity2012 | +30 |
ColorComponents | 3 |
ColorNoiseReduction | 0 |
ColorSpace | sRGB |
ColorTemperature | 5549 |
Contrast | +25 |
Contrast2012 | +4 |
ConvertToGrayscale | True |
Copyright | © 2007 Kristjan Logason |
CopyrightFlag | True |
CopyrightNotice | © 2007 Kristjan Logason |
Country-PrimaryLocationCode | MEX |
Country-PrimaryLocationName | Mexico |
CreateDate | 2007:09:04 13:08:21 |
Credit | Kristjan Logason |
CropAngle | 0 |
CropBottom | 0.922076 |
CropConstrainToWarp | 0 |
CropHeight | 1000 |
CropLeft | 0.385283 |
CropRight | 1 |
CropTop | 0 |
CropUnit | pixels |
CropWidth | 1000 |
CustomRendered | Normal |
DateCreated | 2007:09:04 |
DateTimeOriginal | 2007:09:04 13:08:21 |
Defringe | 0 |
ExifImageHeight | 1020 |
ExifImageWidth | 1020 |
Exposure | 0.00 |
Exposure2012 | +0.09 |
ExposureCompensation | 0 |
ExposureMode | Auto |
ExposureProgram | Shutter speed priority AE |
ExposureTime | 1/100 |
FillLight | 0 |
Flash | Off, Did not fire |
FNumber | 9.0 |
FocalLength | 70.0 mm |
FocalLength35efl | 70.0 mm (35 mm equivalent: 69.9 mm) |
FOV | 28.9 deg |
GradientBasedCorrActive | true |
GradientBasedCorrAmount | 1.000000 |
GradientBasedCorrBrightness | 0.000000 |
GradientBasedCorrClarity | 0.000000 |
GradientBasedCorrClarity2012 (1) | 0.000000 |
GradientBasedCorrClarity2012 (6) | 0.297872 |
GradientBasedCorrClarity2012 (7) | -0.255319 |
GradientBasedCorrClarity2012 | -0.297872 |
GradientBasedCorrContrast | 0.000000 |
GradientBasedCorrContrast2012 | 0.000000 |
GradientBasedCorrExposure | 0.000000 |
GradientBasedCorrExposure2012 (1) | -0.217919 |
GradientBasedCorrExposure2012 (2) | -0.037317 |
GradientBasedCorrExposure2012 (3) | -0.109874 |
GradientBasedCorrExposure2012 (4) | -0.060672 |
GradientBasedCorrExposure2012 (5) | -0.018451 |
GradientBasedCorrExposure2012 (7) | 0.000000 |
GradientBasedCorrExposure2012 | -0.106383 |
GradientBasedCorrHighlights2012 (1) | -0.232879 |
GradientBasedCorrHighlights2012 | 0.000000 |
GradientBasedCorrHue | 0.000000 |
GradientBasedCorrLuminanceNoise | 0.000000 |
GradientBasedCorrMaskFullX (1) | 0.668157 |
GradientBasedCorrMaskFullX (2) | 0.542077 |
GradientBasedCorrMaskFullX (3) | 0.625386 |
GradientBasedCorrMaskFullX (4) | 0.552257 |
GradientBasedCorrMaskFullX (5) | 0.891508 |
GradientBasedCorrMaskFullX (6) | 0.803663 |
GradientBasedCorrMaskFullX (7) | 0.811803 |
GradientBasedCorrMaskFullX | 0.628883 |
GradientBasedCorrMaskFullY (1) | 0.728753 |
GradientBasedCorrMaskFullY (2) | 0.334406 |
GradientBasedCorrMaskFullY (3) | 0.718084 |
GradientBasedCorrMaskFullY (4) | 0.343382 |
GradientBasedCorrMaskFullY (5) | 0.085239 |
GradientBasedCorrMaskFullY (6) | 0.248288 |
GradientBasedCorrMaskFullY (7) | 0.050127 |
GradientBasedCorrMaskFullY | 0.736078 |
GradientBasedCorrMaskValue | 1.000000 |
GradientBasedCorrMaskWhat | Mask/Gradient |
GradientBasedCorrMaskZeroX (1) | 0.710107 |
GradientBasedCorrMaskZeroX (2) | 0.671257 |
GradientBasedCorrMaskZeroX (3) | 0.642490 |
GradientBasedCorrMaskZeroX (4) | 0.698382 |
GradientBasedCorrMaskZeroX (5) | 0.878561 |
GradientBasedCorrMaskZeroX (6) | 0.826099 |
GradientBasedCorrMaskZeroX (7) | 0.824115 |
GradientBasedCorrMaskZeroX | 0.664060 |
GradientBasedCorrMaskZeroY (1) | 0.256694 |
GradientBasedCorrMaskZeroY (2) | 0.446615 |
GradientBasedCorrMaskZeroY (3) | 0.160172 |
GradientBasedCorrMaskZeroY (4) | 0.472431 |
GradientBasedCorrMaskZeroY (5) | 0.324018 |
GradientBasedCorrMaskZeroY (6) | 0.599916 |
GradientBasedCorrMaskZeroY (7) | 0.292848 |
GradientBasedCorrMaskZeroY | 0.441911 |
GradientBasedCorrMoire | 0.000000 |
GradientBasedCorrSaturation | 0.000000 |
GradientBasedCorrShadows2012 | 0.000000 |
GradientBasedCorrSharpness | 0.000000 |
GradientBasedCorrTemperature | 0.000000 |
GradientBasedCorrTint | 0.000000 |
GradientBasedCorrWhat | Correction |
GrainAmount | 0 |
GrayMixerAqua | -12 |
GrayMixerBlue | -19 |
GrayMixerGreen | -12 |
GrayMixerMagenta | 0 |
GrayMixerOrange | +33 |
GrayMixerPurple | 0 |
GrayMixerRed | +15 |
GrayMixerYellow | +15 |
GreenHue | 0 |
GreenSaturation | 0 |
HasCrop | True |
HasSettings | True |
Headline | Indigenous in Chiapilla |
HighlightRecovery | 0 |
Highlights2012 | -16 |
HyperfocalDistance | 18.10 m |
I was hoping to be able to follow him for a day or two in his work but due to circumstances in the community, he was postponing all his visits for some days.
ImageDescription | Came in contact with Sergio Castro Martines through Museo de Trajes Regionales when we where in San Cristobal de las Casas. He is a remarkable man that has been helping the indians in Chiapas for a long time. He is by training an agricultural engineer, teacher and veterinarian. However, by nature he is a true humanitarian, ethnologist and polyglot. Sergio has spent more than 45 years helping to build schools, develop water treatment systems and provide wound care for burn victims for the many indigenous cultures and Mexican people of Chiapas.
ImageHeight | 1020 |
ImageSize | 1020x1020 |
ImageWidth | 1020 |
ISO | 100 |
Keywords | Black and white, Chiapas, Chiapilla, Indigenous, Man, Mexican, Mexico, Old, Street photography, Travel, Trvelling |
LensInfo | 24-70mm f/? |
LensManualDistortionAmount | 0 |
LensModel | 24.0-70.0 mm |
LensProfileEnable | 0 |
LensProfileSetup | LensDefaults |
LightValue | 13.0 |
LuminanceSmoothing | 0 |
Make | Canon |
MaxApertureValue | 2.8 |
Megapixels | 1.0 |
MeteringMode | Multi-segment |
Model | Canon EOS-1Ds Mark II |
ModifyDate | 2012:02:12 15:55:42 |
ObjectName | Indigenous in Chiapilla |
Orientation | Horizontal (normal) |
OwnerName | Kristjan Logason |
PaintCorrectionActive | true |
PaintCorrectionAmount | 1.000000 |
PaintCorrectionBrightness | 0.000000 |
PaintCorrectionClarity | 0.000000 |
PaintCorrectionClarity2012 | 0.181765 |
PaintCorrectionContrast | 0.000000 |
PaintCorrectionContrast2012 | 0.091672 |
PaintCorrectionExposure | 0.000000 |
PaintCorrectionExposure2012 | 0.182513 |
PaintCorrectionHighlights2012 | 0.054272 |
PaintCorrectionHue | 0.000000 |
PaintCorrectionLuminanceNoise | 0.000000 |
PaintCorrectionMaskCenterWeight | 0.000000 |
PaintCorrectionMaskFlow | 1.000000 |
PaintCorrectionMaskRadius | 0.015668 |
PaintCorrectionMaskValue | 1.000000 |
PaintCorrectionMaskWhat | Mask/Paint |
PaintCorrectionMoire | 0.000000 |
PaintCorrectionSaturation | 0.000000 |
PaintCorrectionShadows2012 | 0.000000 |
PaintCorrectionSharpness | 0.000000 |
PaintCorrectionTemperature | 0.000000 |
PaintCorrectionTint | 0.000000 |
PaintCorrectionWhat | Correction |
ParametricDarks | -37 |
ParametricHighlights | -28 |
ParametricHighlightSplit | 90 |
ParametricLights | +28 |
ParametricMidtoneSplit | 50 |
ParametricShadows | 0 |
ParametricShadowSplit | 10 |
PerspectiveHorizontal | 0 |
PerspectiveRotate | 0.0 |
PerspectiveScale | 100 |
PerspectiveVertical | 0 |
PostCropVignetteAmount | -23 |
PostCropVignetteFeather | 48 |
PostCropVignetteHighlightContrast | 36 |
PostCropVignetteMidpoint | 38 |
PostCropVignetteRoundness | -35 |
PostCropVignetteStyle | 1 |
ProcessVersion | 6.6 |
ProfileDescription | sRGB IEC61966-2.1 |
Province-State | Chiapas |
RedHue | 0 |
RedSaturation | 0 |
ScaleFactor35efl | 1.0 |
SceneCaptureType | Standard |
SerialNumber | 334645 |
Shadows | 5 |
Shadows2012 | -24 |
ShadowTint | 0 |
SharpenDetail | 25 |
SharpenEdgeMasking | 0 |
SharpenRadius | +1.0 |
Sharpness | 0 |
ShutterSpeed | 1/100 |
ShutterSpeedValue | 1/100 |
Software | Adobe Photoshop CS3 Macintosh |
Source | Kristjan Logason |
SplitToningBalance | 0 |
SplitToningHighlightHue | 56 |
SplitToningHighlightSaturation | 4 |
SplitToningShadowHue | 0 |
SplitToningShadowSaturation | 0 |
Tint | -30 |
ToneCurve | 0, 0, 32, 22, 64, 56, 128, 128, 192, 196, 255, 255 |
ToneCurveBlue | 0, 0, 255, 255 |
ToneCurveGreen | 0, 0, 255, 255 |
ToneCurveName | Medium Contrast |
ToneCurveName2012 | Linear |
ToneCurvePV2012 | 0, 0, 255, 255 |
ToneCurvePV2012Blue | 0, 0, 255, 255 |
ToneCurvePV2012Green | 0, 0, 255, 255 |
ToneCurvePV2012Red | 0, 0, 255, 255 |
ToneCurveRed | 0, 0, 255, 255 |
URL | www.aurora.is |
URL_List | |
Version | 7.0 |
VignetteAmount | 0 |
We used our time instead to take a horseback ride up to Chiapilla and strolled around there for some time. I got this image of a native at the town office building. This was a shot from the hip. Lucky one as such but much to my liking. |
WhiteBalance (1) | Custom |
WhiteBalance | Auto |
Whites2012 | -44 |
Writer-Editor | Kristjan Logason |