Felt | Verdi |
AlreadyApplied | True |
Aperture | 1.6 |
ApertureValue | 1.6 |
BitsPerSample | 8 |
BlueHue | 0 |
BlueSaturation | 0 |
Brightness | +50 |
CameraProfile | Adobe Standard |
CFAPattern | [Green,Blue][Red,Green] |
ChromaticAberrationB | 0 |
ChromaticAberrationR | 0 |
CircleOfConfusion | 0.020 mm |
Clarity | +31 |
ColorComponents | 3 |
ColorMode | RGB |
ColorNoiseReduction | 25 |
ColorSpace | Uncalibrated |
ColorTemperature | 4500 |
Contrast (1) | +59 |
Contrast | Normal |
ConvertToGrayscale | False |
CreateDate (1) | 2011:06:12 13:09:28.00+02:00 |
CreateDate | 2011:06:12 13:09:28 |
CreatorTool | Ver.1.00 |
CropAngle | 0 |
CropBottom | 1 |
CropLeft | 0 |
CropRight | 1 |
CropTop | 0 |
CustomRendered | Normal |
DateCreated (1) | 2011:06:12 |
DateCreated | 2011:06:12 13:09:28 |
DateTimeOriginal | 2011:06:12 13:09:28 |
Defringe | 0 |
DigitalZoomRatio | 1 |
DOF | 0.23 m (2.88 - 3.11 m) |
ExifImageHeight | 1502 |
ExifImageWidth | 1000 |
Exposure | -0.29 |
ExposureCompensation | 0 |
ExposureMode | Manual |
ExposureProgram | Manual |
ExposureTime | 1/320 |
FillLight | 0 |
Flash | No Flash |
FNumber | 1.6 |
FocalLength | 50.0 mm |
FocalLength35efl | 50.0 mm (35 mm equivalent: 75.0 mm) |
FocalLengthIn35mmFormat | 75 mm |
Format | image/jpeg |
FOV | 27.0 deg |
GainControl | None |
GradientBasedCorrActive | true |
GradientBasedCorrAmount | 1.000000 |
GradientBasedCorrBrightness | 0.000000 |
GradientBasedCorrClarity | 0.000000 |
GradientBasedCorrContrast (1) | 0.050000 |
GradientBasedCorrContrast | 0.600000 |
GradientBasedCorrExposure (1) | -0.150000 |
GradientBasedCorrExposure | -0.050000 |
GradientBasedCorrHue | 231.000000 |
GradientBasedCorrMaskFullX (1) | 0.788618 |
GradientBasedCorrMaskFullX | 0.072024 |
GradientBasedCorrMaskFullY (1) | 0.012245 |
GradientBasedCorrMaskFullY | 0.579810 |
GradientBasedCorrMaskValue | 1.000000 |
GradientBasedCorrMaskWhat | Mask/Gradient |
GradientBasedCorrMaskZeroX (1) | 0.779133 |
GradientBasedCorrMaskZeroX | 0.685637 |
GradientBasedCorrMaskZeroY (1) | 0.324490 |
GradientBasedCorrMaskZeroY | 0.569388 |
GradientBasedCorrSaturation | 0.000000 |
GradientBasedCorrSharpness | 0.000000 |
GradientBasedCorrWhat | Correction |
GrainAmount | 0 |
GreenHue | 0 |
GreenSaturation | 0 |
HasCrop | True |
HasSettings | True |
HighlightRecovery | 0 |
HueAdjustmentAqua | 0 |
HueAdjustmentBlue | 0 |
HueAdjustmentGreen | 0 |
HueAdjustmentMagenta | 0 |
HueAdjustmentOrange | 0 |
HueAdjustmentPurple | 0 |
HueAdjustmentRed | 0 |
HueAdjustmentYellow | 0 |
HyperfocalDistance | 78.00 m |
ICCProfileName | Adobe RGB (1998) |
ImageHeight | 1502 |
ImageNumber | 14369 |
ImageSize | 1000x1502 |
ImageWidth | 1000 |
ISO | 160 |
Lens | 50.0 mm f/1.4 |
LensID (1) | 67 |
LensID | AF Nikkor 50mm f/1.4D |
LensInfo | 50mm f/1.4 |
LightSource | Unknown |
LightValue | 9.0 |
LuminanceAdjustmentAqua | 0 |
LuminanceAdjustmentBlue | 0 |
LuminanceAdjustmentGreen | -12 |
LuminanceAdjustmentMagenta | 0 |
LuminanceAdjustmentOrange | +8 |
LuminanceAdjustmentPurple | 0 |
LuminanceAdjustmentRed | 0 |
LuminanceAdjustmentYellow | -4 |
LuminanceSmoothing | 0 |
Make | NIKON CORPORATION |
MaxApertureValue | 1.4 |
Megapixels | 1.5 |
MeteringMode | Spot |
Model | NIKON D90 |
ModifyDate (1) | 2011:06:12 22:28:14+02:00 |
ModifyDate | 2011:06:12 22:28:14 |
Orientation | Horizontal (normal) |
PaintCorrectionActive | true |
PaintCorrectionAmount | 1.000000 |
PaintCorrectionBrightness | 0.000000 |
PaintCorrectionClarity (5) | 0.550000 |
PaintCorrectionClarity (6) | 0.350000 |
PaintCorrectionClarity | 0.000000 |
PaintCorrectionContrast (5) | 0.225000 |
PaintCorrectionContrast (6) | 0.000000 |
PaintCorrectionContrast | 0.050000 |
PaintCorrectionExposure (1) | -0.150000 |
PaintCorrectionExposure (3) | -0.200000 |
PaintCorrectionExposure (5) | 0.100000 |
PaintCorrectionExposure (6) | -0.025000 |
PaintCorrectionExposure (7) | 0.000000 |
PaintCorrectionExposure | -0.050000 |
PaintCorrectionHue | 231.000000 |
PaintCorrectionMaskCenterWeight | 0.000000 |
PaintCorrectionMaskFlow | 0.641000 |
PaintCorrectionMaskRadius (1) | 0.149159 |
PaintCorrectionMaskRadius (12) | 0.067813 |
PaintCorrectionMaskRadius (17) | 0.037746 |
PaintCorrectionMaskRadius (6) | 0.051343 |
PaintCorrectionMaskRadius | 0.109659 |
PaintCorrectionMaskValue | 1.000000 |
PaintCorrectionMaskWhat | Mask/Paint |
PaintCorrectionSaturation (11) | 0.200000 |
PaintCorrectionSaturation (9) | 0.125000 |
PaintCorrectionSaturation | 0.000000 |
PaintCorrectionSharpness (5) | 0.425000 |
PaintCorrectionSharpness | 0.000000 |
PaintCorrectionWhat | Correction |
ParametricDarks | 0 |
ParametricHighlights | 0 |
ParametricHighlightSplit | 75 |
ParametricLights | 0 |
ParametricMidtoneSplit | 50 |
ParametricShadows | 0 |
ParametricShadowSplit | 25 |
PostCropVignetteAmount | 0 |
ProcessVersion | 5.0 |
ProfileDescription | Adobe RGB (1998) |
Rating | 0 |
RawFileName | _DSC4295.NEF |
RedHue | 0 |
RedSaturation | 0 |
Saturation (1) | 0 |
Saturation | Normal |
SaturationAdjustmentAqua | 0 |
SaturationAdjustmentBlue | +8 |
SaturationAdjustmentGreen | +10 |
SaturationAdjustmentMagenta | 0 |
SaturationAdjustmentOrange | +16 |
SaturationAdjustmentPurple | +1 |
SaturationAdjustmentRed | 0 |
SaturationAdjustmentYellow | +12 |
ScaleFactor35efl | 1.5 |
SceneCaptureType | Standard |
SceneType | Directly photographed |
SensingMethod | One-chip color area |
SerialNumber | 6336187 |
Shadows | 5 |
ShadowTint | 0 |
SharpenDetail | 25 |
SharpenEdgeMasking | 0 |
SharpenRadius | +1.3 |
Sharpness (1) | 52 |
Sharpness | Normal |
ShutterSpeed | 1/320 |
ShutterSpeedValue | 1/320 |
Software | Adobe Photoshop CS5 Windows |
SplitToningBalance | 0 |
SplitToningHighlightHue | 0 |
SplitToningHighlightSaturation | 0 |
SplitToningShadowHue | 0 |
SplitToningShadowSaturation | 0 |
SubjectDistance | 2.99 m |
SubjectDistanceRange | Unknown |
Tint | 0 |
ToneCurve | 0, 0, 32, 22, 64, 56, 128, 128, 192, 196, 255, 255 |
ToneCurveName | Medium Contrast |
URL_List | |
Version | 6.0 |
Vibrance | +50 |
VignetteAmount | -29 |
VignetteMidpoint | 32 |
WhiteBalance (1) | Custom |
WhiteBalance | Auto |