Felt | Verdi |
AlreadyApplied | True |
Aperture | 5.0 |
ApertureValue | 5.0 |
BitsPerSample | 8 |
BlueHue | 0 |
BlueSaturation | 0 |
Brightness | +50 |
CameraProfile | Adobe Standard |
CFAPattern | [Green,Red][Blue,Green] |
ChromaticAberrationB | 0 |
ChromaticAberrationR | 0 |
CircleOfConfusion | 0.020 mm |
Clarity | +100 |
ColorComponents | 3 |
ColorNoiseReduction | 25 |
ColorTemperature | 7500 |
Contrast (2) | +72 |
Contrast | Low |
ConvertToGrayscale | False |
Copyright | Espen Seierstad |
CopyrightFlag | True |
CopyrightNotice | Espen Seierstad |
CreateDate (1) | 2009:12:31 15:50:55.08+01:00 |
CreateDate | 2009:12:31 15:50:55 |
CreatorTool | Adobe Photoshop Lightroom |
CropAngle | 0 |
CropBottom | 0.907691 |
CropHeight | 450 |
CropLeft | 0.013288 |
CropRight | 1 |
CropTop | 0.170702 |
CropUnit | pixels |
CropWidth | 900 |
CustomRendered | Normal |
DateTimeDigitized | 2009:12:31 15:50:55.08+01:00 |
DateTimeOriginal (1) | 2009:12:31 15:50:55.08+01:00 |
DateTimeOriginal | 2009:12:31 15:50:55 |
Defringe | 0 |
DigitalZoomRatio | 1 |
DOF | 3.92 m (1.24 - 5.16 m) |
ExifImageHeight | 450 |
ExifImageWidth | 900 |
Exposure | +0.40 |
ExposureCompensation | -2/3 |
ExposureMode | Auto |
ExposureProgram | Program AE |
ExposureTime | 0.5 |
FillLight | 0 |
Flash | Fired, Return not detected |
FlashFired | True |
FlashFunction | False |
FlashMode | Unknown |
FlashRedEyeMode | False |
FlashReturn | Return not detected |
FNumber | 5.0 |
FocalLength | 18.0 mm |
FocalLength35efl | 18.0 mm (35 mm equivalent: 27.0 mm) |
FocalLengthIn35mmFormat | 27 mm |
FOV | 67.4 deg |
GainControl | Low gain up |
GradientBasedCorrActive | true |
GradientBasedCorrAmount | 1.000000 |
GradientBasedCorrBrightness | 0.000000 |
GradientBasedCorrClarity (1) | 0.816000 |
GradientBasedCorrClarity (2) | 0.000000 |
GradientBasedCorrClarity (3) | 0.586000 |
GradientBasedCorrClarity | 0.839000 |
GradientBasedCorrContrast (1) | 0.500000 |
GradientBasedCorrContrast (2) | 0.000000 |
GradientBasedCorrContrast | 0.586000 |
GradientBasedCorrExposure (2) | 0.057000 |
GradientBasedCorrExposure | 0.000000 |
GradientBasedCorrHue (1) | 240.000000 |
GradientBasedCorrHue | 230.000000 |
GradientBasedCorrMaskFullX (1) | 0.574243 |
GradientBasedCorrMaskFullX (2) | 0.538024 |
GradientBasedCorrMaskFullX (3) | 1.002280 |
GradientBasedCorrMaskFullX | 0.060114 |
GradientBasedCorrMaskFullY (1) | 1.011950 |
GradientBasedCorrMaskFullY (2) | 0.154798 |
GradientBasedCorrMaskFullY (3) | 0.491229 |
GradientBasedCorrMaskFullY | 0.501623 |
GradientBasedCorrMaskValue | 1.000000 |
GradientBasedCorrMaskWhat | Mask/Gradient |
GradientBasedCorrMaskZeroX (1) | 0.568905 |
GradientBasedCorrMaskZeroX (2) | 0.538024 |
GradientBasedCorrMaskZeroX (3) | 0.555553 |
GradientBasedCorrMaskZeroX | 0.640446 |
GradientBasedCorrMaskZeroY (1) | 0.378441 |
GradientBasedCorrMaskZeroY (2) | 0.491284 |
GradientBasedCorrMaskZeroY (3) | 0.492268 |
GradientBasedCorrMaskZeroY | 0.499544 |
GradientBasedCorrSaturation | 0.000000 |
GradientBasedCorrSharpness | 0.000000 |
GradientBasedCorrWhat | Correction |
GreenHue | 0 |
GreenSaturation | 0 |
HasCrop | True |
HasSettings | True |
HighlightRecovery | 31 |
HueAdjustmentAqua | 0 |
HueAdjustmentBlue | 0 |
HueAdjustmentGreen | 0 |
HueAdjustmentMagenta | 0 |
HueAdjustmentOrange | 0 |
HueAdjustmentPurple | 0 |
HueAdjustmentRed | 0 |
HueAdjustmentYellow | 0 |
HyperfocalDistance | 3.24 m |
ImageHeight | 450 |
ImageNumber | 16833 |
ImageSize | 900x450 |
ImageWidth | 900 |
ISO | 800 |
Keywords | Birch, Europe, Forest, Hobby, Landscape, National Park, Nature, Nordic, Norrbotten, Out door life, People, Pieljekaise, Portrait, Recreation, Scandinavia, Skiing, Sweden, Winter |
Label | Green |
Lens | 18.0-200.0 mm f/3.5-5.6 |
LensID (1) | 139 |
LensID | AF-S DX VR Zoom-Nikkor 18-200mm f/3.5-5.6G IF-ED or AF-S DX VR Zoom-Nikkor 18-200mm f/3.5-5.6G IF-ED [II] |
LensInfo | 18-200mm f/3.5-5.6 |
LightSource | Unknown |
LightValue | 2.6 |
LuminanceAdjustmentAqua | +76 |
LuminanceAdjustmentBlue | +91 |
LuminanceAdjustmentGreen | +8 |
LuminanceAdjustmentMagenta | 0 |
LuminanceAdjustmentOrange | 0 |
LuminanceAdjustmentPurple | 0 |
LuminanceAdjustmentRed | 0 |
LuminanceAdjustmentYellow | +1 |
LuminanceSmoothing | 79 |
Make | NIKON CORPORATION |
Marked | True |
MaxApertureValue | 3.5 |
Megapixels | 0.405 |
MeteringMode | Spot |
Model | NIKON D200 |
ModifyDate (1) | 2010:12:15 21:00:31+01:00 |
ModifyDate | 2010:12:15 21:00:31 |
PaintCorrectionActive | true |
PaintCorrectionAmount | 1.000000 |
PaintCorrectionBrightness | 0.000000 |
PaintCorrectionClarity (3) | 0.000000 |
PaintCorrectionClarity | 0.471000 |
PaintCorrectionContrast (3) | 0.000000 |
PaintCorrectionContrast | 0.494000 |
PaintCorrectionExposure (1) | 0.057000 |
PaintCorrectionExposure (2) | 0.034000 |
PaintCorrectionExposure (3) | -0.025000 |
PaintCorrectionExposure | 0.000000 |
PaintCorrectionHue | 230.000000 |
PaintCorrectionMaskCenterWeight | 0.007878 |
PaintCorrectionMaskFlow | 1.000000 |
PaintCorrectionMaskRadius (19) | 0.070061 |
PaintCorrectionMaskRadius | 0.064064 |
PaintCorrectionMaskValue | 0.966000 |
PaintCorrectionMaskWhat | Mask/Paint |
PaintCorrectionSaturation | 0.000000 |
PaintCorrectionSharpness | 0.000000 |
PaintCorrectionWhat | Correction |
ParametricDarks | -69 |
ParametricHighlights | -100 |
ParametricHighlightSplit | 75 |
ParametricLights | +69 |
ParametricMidtoneSplit | 50 |
ParametricShadows | -100 |
ParametricShadowSplit | 25 |
PostCropVignetteAmount | +71 |
PostCropVignetteFeather | 80 |
PostCropVignetteMidpoint | 32 |
PostCropVignetteRoundness | -49 |
ProfileDescription | sRGB IEC61966-2.1 |
Rating | 5 |
RedHue | 0 |
RedSaturation | 0 |
Rights | Espen Seierstad |
Saturation (2) | -56 |
Saturation | Normal |
SaturationAdjustmentAqua | 0 |
SaturationAdjustmentBlue | 0 |
SaturationAdjustmentGreen | 0 |
SaturationAdjustmentMagenta | 0 |
SaturationAdjustmentOrange | 0 |
SaturationAdjustmentPurple | 0 |
SaturationAdjustmentRed | 0 |
SaturationAdjustmentYellow | 0 |
ScaleFactor35efl | 1.5 |
SceneCaptureType | Standard |
SceneType | Directly photographed |
SensingMethod | One-chip color area |
Shadows | 5 |
ShadowTint | 0 |
SharpenDetail | 25 |
SharpenEdgeMasking | 25 |
SharpenRadius | +1.4 |
Sharpness (2) | 64 |
Sharpness | Hard |
ShutterSpeed | 0.5 |
ShutterSpeedValue | 0.5 |
Software | Ver.2.00 |
SplitToningBalance | 0 |
SplitToningHighlightHue | 0 |
SplitToningHighlightSaturation | 0 |
SplitToningShadowHue | 0 |
SplitToningShadowSaturation | 0 |
Subject | Birch, Europe, Forest, Hobby, Landscape, National Park, Nature, Nordic, Norrbotten, Out door life, People, Pieljekaise, Portrait, Recreation, Scandinavia, Skiing, Sweden, Winter |
SubjectDistance | 2 m |
SubjectDistanceRange | Unknown |
Tint | +10 |
ToneCurve | 0, 0, 32, 22, 64, 56, 128, 128, 192, 196, 255, 255 |
ToneCurveName | Medium Contrast |
UserComment | Espen Seierstad |
Version | 5.7 |
Vibrance | -60 |
VignetteAmount | 0 |
WhiteBalance (2) | Shade |
WhiteBalance | Auto |