Felt | Verdi |
2010-06-22T17:35:51+02:00 File C:\Users\Didd\Desktop\02.jpg saved
AlreadyApplied | True |
Aperture | 1.4 |
ApertureValue | 1.4 |
BitsPerSample | 8 |
BlueHue | 0 |
BlueSaturation | 0 |
Bottom: 7,13 cm
Brightness | +80 |
CameraProfile | Adobe Standard |
Channel: composite channel
ChromaticAberrationB | 0 |
ChromaticAberrationR | 0 |
CircleOfConfusion | 0.031 mm |
Clarity | 0 |
Clear Quick Mask of current document
ColorComponents | 3 |
ColorMode | RGB |
ColorNoiseReduction | 25 |
ColorSpace (1) | Unknown (-1) |
ColorSpace | Uncalibrated |
ColorTemperature | 5150 |
Contrast | +40 |
ConvertToGrayscale | False |
CopyrightFlag | False |
CreateDate (1) | 2010:06:22 17:35:51+02:00 |
CreateDate | 2010:06:19 16:16:12 |
CreatorTool | Adobe Photoshop CS3 Windows |
CustomRendered | Normal |
DateTimeDigitized | 2010:06:19 16:16:12.28+02:00 |
DateTimeOriginal (1) | 2010:06:19 16:16:12.28+02:00 |
DateTimeOriginal | 2010:06:19 16:16:12 |
Defringe | 0 |
DerivedFrom | |
Deselect
DOF | 0.49 m (3.56 - 4.05 m) |
Elliptical Marquee
Enter Quick Mask
ExifImageHeight | 600 |
ExifImageWidth | 900 |
Exit Quick Mask
Exposure | 0.00 |
ExposureCompensation | 0 |
ExposureMode | Auto |
ExposureProgram | Aperture-priority AE |
ExposureTime | 1/3200 |
FillLight | 0 |
Firmware | 2.0.4 |
Flash | On, Fired |
FlashCompensation | 0 |
FlashFired | True |
FlashFunction | False |
FlashMode | On |
FlashRedEyeMode | False |
FlashReturn | No return detection |
FNumber | 1.4 |
FocalLength | 50.0 mm |
FocalLength35efl | 50.0 mm (35 mm equivalent: 48.8 mm) |
Format | image/jpeg |
FOV | 40.5 deg |
Gamma: 0,68
Gaussian Blur
Gaussian Blur Radius: 97,4 pixels
GreenHue | 0 |
GreenSaturation | 0 |
HasCrop | False |
HasSettings | True |
Hide current layer
HighlightRecovery | 25 |
HueAdjustmentAqua | 0 |
HueAdjustmentBlue | 0 |
HueAdjustmentGreen | 0 |
HueAdjustmentMagenta | 0 |
HueAdjustmentOrange | 0 |
HueAdjustmentPurple | 0 |
HueAdjustmentRed | 0 |
HueAdjustmentYellow | 0 |
HyperfocalDistance | 58.00 m |
ICCProfileName | Adobe RGB (1998) |
Image Size
Image Size Width: 1500 pixels
Image Size Width: 5000 pixels
Image Size Width: 900 pixels
ImageHeight | 600 |
ImageNumber | 0 |
ImageSize | 900x600 |
ImageWidth | 900 |
Interpolation: bicubic
Inverse
ISO | 400 |
Left: 0,53 cm
Lens | EF50mm f/1.2L USM |
LensID (1) | 241 |
LensID | Canon EF 50mm f/1.2L USM |
LensInfo | 50mm f/? |
Levels
levels adjustment
Levels Adjustment: levels adjustment list
LightValue | 10.6 |
LuminanceAdjustmentAqua | 0 |
LuminanceAdjustmentBlue | 0 |
LuminanceAdjustmentGreen | 0 |
LuminanceAdjustmentMagenta | 0 |
LuminanceAdjustmentOrange | 0 |
LuminanceAdjustmentPurple | 0 |
LuminanceAdjustmentRed | 0 |
LuminanceAdjustmentYellow | 0 |
LuminanceSmoothing | 0 |
Make | Canon |
Master Opacity Change
MaxApertureValue | 1.2 |
Megapixels | 0.540 |
Merge Visible
MeteringMode | Multi-segment |
Model | Canon EOS 5D Mark II |
ModifyDate (1) | 2010:06:22 17:35:51+02:00 |
ModifyDate | 2010:06:22 17:35:51 |
Move Selection
Move Selection To: 0,17 cm, -0,25 cm
Opacity: 60%
Open D:\100619_Martha og Jim Andre\dng\03 Brudebilder\0694.dng
Orientation | Horizontal (normal) |
ParametricDarks | 0 |
ParametricHighlights | 0 |
ParametricHighlightSplit | 75 |
ParametricLights | 0 |
ParametricMidtoneSplit | 50 |
ParametricShadows | 0 |
ParametricShadowSplit | 25 |
Play action “A Better Web Sharpen” of set “TRA2 - The Revenge”
Play action “Lux (hard)” of set “TRA2 - The Revenge”
Play action “Pool Party” of set “TRA2 - The Revenge”
Play action “Slice Like A Ninja (Sharpen)” of set “TRA2 - The Revenge”
PostCropVignetteAmount | 0 |
ProfileDescription | Adobe RGB (1998) |
Rating | 0 |
RawFileName | 0694.dng |
RedHue | 0 |
RedSaturation | 0 |
Right: 9,19 cm
Saturation | 0 |
SaturationAdjustmentAqua | 0 |
SaturationAdjustmentBlue | 0 |
SaturationAdjustmentGreen | 0 |
SaturationAdjustmentMagenta | 0 |
SaturationAdjustmentOrange | 0 |
SaturationAdjustmentPurple | 0 |
SaturationAdjustmentRed | 0 |
SaturationAdjustmentYellow | 0 |
ScaleFactor35efl | 1.0 |
SceneCaptureType | Standard |
Select Inverse
SerialNumber | 1330808299 |
Set current layer To: layer
Set Quick Mask of current document
Set Selection To: ellipse
Set Selection To: none
Shadows | 4 |
ShadowTint | 0 |
SharpenDetail | 25 |
SharpenEdgeMasking | 0 |
SharpenRadius | +1.0 |
Sharpness | 25 |
Show current layer
ShutterSpeed | 1/3200 |
ShutterSpeedValue | 1/3200 |
Software | Adobe Photoshop CS3 Windows |
SplitToningBalance | 0 |
SplitToningHighlightHue | 0 |
SplitToningHighlightSaturation | 0 |
SplitToningShadowHue | 0 |
SplitToningShadowSaturation | 0 |
SubjectDistance | 3.79 m |
Tint | -1 |
ToneCurve | 0, 0, 32, 22, 64, 56, 128, 128, 192, 196, 255, 255 |
ToneCurveName | Medium Contrast |
Top: 0,25 cm
URL_List | |
Version | 4.6 |
Vibrance | 0 |
VignetteAmount | 0 |
WhiteBalance (2) | Custom |
WhiteBalance | Auto |
With Anti-alias
With Constrain Proportions
With Scale Styles