Felt | Verdi |
AlreadyApplied | True |
Aperture | 1.8 |
ApertureValue | 1.8 |
AutoLateralCA | 0 |
BitsPerSample | 8 |
Blacks2012 | 0 |
BlueHue | 0 |
BlueSaturation | 0 |
BrightnessValue | 5.660512389 |
CameraProfile | Embedded |
CircleOfConfusion | 0.004 mm |
City | Bodø |
Clarity2012 | 0 |
ColorComponents | 3 |
ColorGradeBlending | 50 |
ColorGradeGlobalHue | 0 |
ColorGradeGlobalLum | 0 |
ColorGradeGlobalSat | 0 |
ColorGradeHighlightLum | 0 |
ColorGradeMidtoneHue | 0 |
ColorGradeMidtoneLum | 0 |
ColorGradeMidtoneSat | 0 |
ColorGradeShadowLum | 0 |
ColorNoiseReduction | 0 |
ColorSpace | Uncalibrated |
ColorTransform | YCbCr |
CompatibleVersion | 234881024 |
Contrast2012 | +6 |
ConvertToGrayscale | False |
Country | Norway |
Country-PrimaryLocationCode | NO |
Country-PrimaryLocationName | Norway |
CountryCode | NO |
CreateDate (1) | 2023:06:30 02:19:34.164+02:00 |
CreateDate | 2023:06:30 02:19:34 |
CreatorTool | Adobe Photoshop Lightroom Classic 12.3 (Macintosh) |
CropAngle | 0 |
CropBottom | 1 |
CropConstrainToWarp | 0 |
CropLeft | 0 |
CropRight | 1 |
CropTop | 0 |
DateCreated (1) | 2023:06:30 |
DateCreated | 2023:06:30 02:19:34.164+02:00 |
DateTimeOriginal | 2023:06:30 02:19:34 |
DefringeGreenAmount | 0 |
DefringeGreenHueHi | 60 |
DefringeGreenHueLo | 40 |
DefringePurpleAmount | 0 |
DefringePurpleHueHi | 70 |
DefringePurpleHueLo | 30 |
Dehaze | +13 |
DigitalZoomRatio | 1.129200896 |
DistortionCorrectionAlreadyApplied | True |
Exposure2012 | 0.00 |
ExposureCompensation | 0 |
ExposureMode | Auto |
ExposureProgram | Program AE |
ExposureTime | 1/170 |
Flash | Off, Did not fire |
FNumber | 1.8 |
FocalLength | 6.9 mm |
FocalLength35efl | 6.9 mm (35 mm equivalent: 55.0 mm) |
FocalLengthIn35mmFormat | 55 mm |
Format | image/jpeg |
FOV | 36.2 deg |
GPSAltitude (1) | 10.71254158 m |
GPSAltitude | 10.7 m Above Sea Level |
GPSAltitudeRef | Above Sea Level |
GPSDestBearing | 143.6255724 |
GPSDestBearingRef | True North |
GPSHPositioningError | 35 m |
GPSImgDirection | 143.6255724 |
GPSImgDirectionRef | True North |
GPSLatitude (1) | 67 deg 17' 6.04" |
GPSLatitude | 67 deg 17' 6.04" N |
GPSLatitudeRef | North |
GPSLongitude (1) | 14 deg 22' 46.06" |
GPSLongitude | 14 deg 22' 46.06" E |
GPSLongitudeRef | East |
GPSPosition | 67 deg 17' 6.04" N, 14 deg 22' 46.06" E |
GPSSpeed | 0 |
GPSSpeedRef | km/h |
GrainAmount | 0 |
GreenHue | 0 |
GreenSaturation | 0 |
HasCrop | False |
HasSettings | True |
Highlights2012 | -41 |
HueAdjustmentAqua | 0 |
HueAdjustmentBlue | 0 |
HueAdjustmentGreen | 0 |
HueAdjustmentMagenta | 0 |
HueAdjustmentOrange | 0 |
HueAdjustmentPurple | 0 |
HueAdjustmentRed | 0 |
HueAdjustmentYellow | 0 |
HyperfocalDistance | 6.98 m |
ImageHeight | 1536 |
ImageSize | 2048x1536 |
ImageWidth | 2048 |
IncrementalTemperature | 0 |
IncrementalTint | 0 |
ISO | 50 |
LateralChromaticAberrationCorrectionAlreadyApplied | True |
Lens | iPhone 14 Pro Max back triple camera 6.86mm f/1.78 |
LensInfo (1) | 2.22000002861193-9mm f/1.77999997138807-2.8 |
LensInfo | 2.220000029-9mm f/1.779999971-2.8 |
LensMake | Apple |
LensManualDistortionAmount | 0 |
LensModel | iPhone 14 Pro Max back triple camera 6.86mm f/1.78 |
LensProfileEnable | 0 |
LightValue | 10.1 |
LuminanceAdjustmentAqua | 0 |
LuminanceAdjustmentBlue | 0 |
LuminanceAdjustmentGreen | 0 |
LuminanceAdjustmentMagenta | 0 |
LuminanceAdjustmentOrange | 0 |
LuminanceAdjustmentPurple | 0 |
LuminanceAdjustmentRed | 0 |
LuminanceAdjustmentYellow | 0 |
LuminanceSmoothing | 0 |
Make | Apple |
Megapixels | 3.1 |
MeteringMode | Spot |
Model | iPhone 14 Pro Max |
ModifyDate (1) | 2023:06:30 02:30:05+02:00 |
ModifyDate | 2023:06:30 02:30:05 |
OverrideLookVignette | False |
ParametricDarks | 0 |
ParametricHighlights | 0 |
ParametricHighlightSplit | 75 |
ParametricLights | 0 |
ParametricMidtoneSplit | 50 |
ParametricShadows | 0 |
ParametricShadowSplit | 25 |
PerspectiveAspect | 0 |
PerspectiveHorizontal | 0 |
PerspectiveRotate | 0.0 |
PerspectiveScale | 100 |
PerspectiveUpright | 0 |
PerspectiveVertical | 0 |
PerspectiveX | 0.00 |
PerspectiveY | 0.00 |
PostCropVignetteAmount | 0 |
PreservedFileName | IMG_1937.DNG |
ProcessVersion | 11.0 |
ProfileDescription | Display P3 |
Province-State | Nordland |
Rating | 5 |
RawFileName | IMG_1937-5134.tif |
RedHue | 0 |
RedSaturation | 0 |
Saturation | 0 |
SaturationAdjustmentAqua | 0 |
SaturationAdjustmentBlue | 0 |
SaturationAdjustmentGreen | 0 |
SaturationAdjustmentMagenta | 0 |
SaturationAdjustmentOrange | 0 |
SaturationAdjustmentPurple | 0 |
SaturationAdjustmentRed | 0 |
SaturationAdjustmentYellow | 0 |
ScaleFactor35efl | 8.0 |
SceneType | Directly photographed |
SensingMethod | One-chip color area |
Shadows2012 | -13 |
ShadowTint | 0 |
Sharpness | 0 |
ShutterSpeed | 1/170 |
ShutterSpeedValue | 1/170 |
Software | Adobe Photoshop Lightroom Classic 12.3 (Macintosh) |
SplitToningBalance | 0 |
SplitToningHighlightHue | 0 |
SplitToningHighlightSaturation | 0 |
SplitToningShadowHue | 0 |
SplitToningShadowSaturation | 0 |
State | Nordland |
SubjectArea | 2086 1503 372 375 |
Texture | 0 |
ToneCurveName2012 | Linear |
ToneCurvePV2012 | 0, 0, 255, 255 |
ToneCurvePV2012Blue | 0, 0, 255, 255 |
ToneCurvePV2012Green | 0, 0, 255, 255 |
ToneCurvePV2012Red | 0, 0, 255, 255 |
Version | 15.3 |
Vibrance | 0 |
VignetteAmount | 0 |
Virtualpaths | |
WhiteBalance (1) | As Shot |
WhiteBalance | Auto |
Whites2012 | +4 |