Felt | Verdi |
AlreadyApplied | True |
Aperture | 11.0 |
ApertureValue | 11.0 |
AutoLateralCA | 1 |
BitsPerSample | 8 |
Blacks2012 | 0 |
BlueHue | 0 |
BlueSaturation | 0 |
BrightnessValue | -2.2 |
CameraProfile | Adobe Standard |
CameraProfilesApertureValue | 6.918863 |
CameraProfilesAuthor | Adobe |
CameraProfilesAutoScale | False |
CameraProfilesCameraPrettyName | Fujifilm GFX 50S II |
CameraProfilesCameraRawProfile | True |
CameraProfilesFocalLength | 45.7 |
CameraProfilesFocusDistance | 10000 |
CameraProfilesLens | GF35-70mmF4.5-5.6 WR |
CameraProfilesLensPrettyName | GF35-70mmF4.5-5.6 WR |
CameraProfilesMake | FUJIFILM |
CameraProfilesModel | GFX50S II |
CameraProfilesPerspectiveModelRadialDistortParam1 | -0.06844 |
CameraProfilesPerspectiveModelRadialDistortParam2 | 0.010169 |
CameraProfilesPerspectiveModelRadialDistortParam3 | 0.119835 |
CameraProfilesPerspectiveModelScaleFactor | 1.008523 |
CameraProfilesPerspectiveModelVersion | 2 |
CameraProfilesPerspectiveModelVignetteModelVignetteModelParam1 | 1 |
CameraProfilesPerspectiveModelVignetteModelVignetteModelPiecewiseParam | 0.000000, 1.000000, 0.212758, 0.976631, 0.300985, 0.956113, 0.368531, 0.936440, 0.425516, 0.916738, 0.475680, 0.897852, 0.521224, 0.881235, 0.562807, 0.865596, 0.601751, 0.849087, 0.638274, 0.849087 |
CameraProfilesProfileName | Camera Settings |
CameraProfilesSensorFormatFactor | 0.786666 |
CameraProfilesUniqueCameraModel | Fujifilm GFX 50S II |
CircleOfConfusion | 0.038 mm |
Clarity2012 | 0 |
ColorComponents | 3 |
ColorGradeBlending | 50 |
ColorGradeGlobalHue | 0 |
ColorGradeGlobalLum | 0 |
ColorGradeGlobalSat | 0 |
ColorGradeHighlightLum | 0 |
ColorGradeMidtoneHue | 0 |
ColorGradeMidtoneLum | 0 |
ColorGradeMidtoneSat | 0 |
ColorGradeShadowLum | 0 |
ColorMode | RGB |
ColorNoiseReduction | 25 |
ColorNoiseReductionDetail | 50 |
ColorNoiseReductionSmoothness | 50 |
ColorSpace | Uncalibrated |
ColorTemperature | 4850 |
ColorTransform | YCbCr |
CompatibleVersion | 234881024 |
Contrast2012 | 0 |
Copyright | TORMOD NORDSKOG |
CopyrightNotice | TORMOD NORDSKOG |
CreateDate | 2022:08:27 18:57:26 |
CreatorTool | Digital Camera GFX50S II Ver1.00 |
CropAngle | 0 |
CropBottom | 0.913688 |
CropConstrainToWarp | 0 |
CropLeft | 0 |
CropRight | 0.91503 |
CropTop | 0.039809 |
CustomRendered | Normal |
DateCreated (1) | 2022:08:27 |
DateCreated | 2022:08:27 18:57:26 |
DateTimeOriginal | 2022:08:27 18:57:26 |
DefringeGreenAmount | 0 |
DefringeGreenHueHi | 60 |
DefringeGreenHueLo | 40 |
DefringePurpleAmount | 0 |
DefringePurpleHueHi | 70 |
DefringePurpleHueLo | 30 |
Dehaze | 0 |
DistortionCorrectionAlreadyApplied | True |
ExifImageHeight | 5411 |
ExifImageWidth | 7268 |
Exposure2012 | 0.00 |
ExposureCompensation | 0 |
ExposureMode | Manual |
ExposureProgram | Manual |
ExposureTime | 33 |
Flash | No Flash |
FNumber | 11.0 |
FocalLength | 45.7 mm |
FocalLength35efl | 45.7 mm (35 mm equivalent: 36.0 mm) |
FocalLengthIn35mmFormat | 36 mm |
Format | image/jpeg |
FOV | 53.1 deg |
FujiRatingAlreadyApplied | True |
GrainAmount | 0 |
GreenHue | 0 |
GreenSaturation | 0 |
HasCrop | True |
HasSettings | True |
Highlights2012 | 0 |
HueAdjustmentAqua | 0 |
HueAdjustmentBlue | 0 |
HueAdjustmentGreen | 0 |
HueAdjustmentMagenta | 0 |
HueAdjustmentOrange | 0 |
HueAdjustmentPurple | 0 |
HueAdjustmentRed | 0 |
HueAdjustmentYellow | 0 |
HyperfocalDistance | 4.98 m |
ICCProfileName | ProPhoto RGB |
ImageHeight | 5411 |
ImageSize | 7268x5411 |
ImageWidth | 7268 |
ISO | 50 |
Label | |
LateralChromaticAberrationCorrectionAlreadyApplied | True |
Lens | GF35-70mmF4.5-5.6 WR |
LensInfo | 35-70mm f/4.5-5.6 |
LensMake | FUJIFILM |
LensManualDistortionAmount | 0 |
LensModel | GF35-70mmF4.5-5.6 WR |
LensProfileDistortionScale | 100 |
LensProfileEnable | 1 |
LensProfileIsEmbedded | True |
LensProfileName | Camera Settings |
LensProfileSetup | LensDefaults |
LensProfileVignettingScale | 100 |
LensSerialNumber | 1CA02939 |
LightSource | Unknown |
LightValue | 2.9 |
LookAmount | 1 |
LookGroup | Profiles |
LookName | Adobe Color |
LookParametersCameraProfile | Adobe Standard |
LookParametersConvertToGrayscale | False |
LookParametersLookTable | E1095149FDB39D7A057BAB208837E2E1 |
LookParametersProcessVersion | 11.0 |
LookParametersToneCurvePV2012 | 0, 0, 22, 16, 40, 35, 127, 127, 224, 230, 240, 246, 255, 255 |
LookParametersToneCurvePV2012Blue | 0, 0, 255, 255 |
LookParametersToneCurvePV2012Green | 0, 0, 255, 255 |
LookParametersToneCurvePV2012Red | 0, 0, 255, 255 |
LookParametersVersion | 15.1 |
LookSupportsAmount | false |
LookSupportsMonochrome | false |
LookSupportsOutputReferred | false |
LuminanceAdjustmentAqua | 0 |
LuminanceAdjustmentBlue | 0 |
LuminanceAdjustmentGreen | 0 |
LuminanceAdjustmentMagenta | 0 |
LuminanceAdjustmentOrange | 0 |
LuminanceAdjustmentPurple | 0 |
LuminanceAdjustmentRed | 0 |
LuminanceAdjustmentYellow | 0 |
LuminanceSmoothing | 0 |
Make | FUJIFILM |
MaxApertureValue | 4.4 |
Megapixels | 39.3 |
MeteringMode | Spot |
Model | GFX50S II |
ModifyDate (1) | 2022:12:28 13:09:22+01:00 |
ModifyDate | 2022:12:28 13:09:22 |
Orientation | Horizontal (normal) |
OverrideLookVignette | False |
ParametricDarks | 0 |
ParametricHighlights | 0 |
ParametricHighlightSplit | 75 |
ParametricLights | 0 |
ParametricMidtoneSplit | 50 |
ParametricShadows | 0 |
ParametricShadowSplit | 25 |
PerspectiveAspect | 0 |
PerspectiveHorizontal | 0 |
PerspectiveRotate | 0.0 |
PerspectiveScale | 100 |
PerspectiveUpright | 0 |
PerspectiveVertical | 0 |
PerspectiveX | 0.00 |
PerspectiveY | 0.00 |
PostCropVignetteAmount | 0 |
PreservedFileName | DSCF1322.RAF |
ProcessVersion | 11.0 |
ProfileDescription | ProPhoto RGB |
Rating | 0 |
RedHue | 0 |
RedSaturation | 0 |
Rights | TORMOD NORDSKOG |
Saturation | 0 |
SaturationAdjustmentAqua | 0 |
SaturationAdjustmentBlue | 0 |
SaturationAdjustmentGreen | 0 |
SaturationAdjustmentMagenta | 0 |
SaturationAdjustmentOrange | 0 |
SaturationAdjustmentPurple | 0 |
SaturationAdjustmentRed | 0 |
SaturationAdjustmentYellow | 0 |
ScaleFactor35efl | 0.8 |
SceneCaptureType | Standard |
SceneType | Directly photographed |
SensingMethod | One-chip color area |
SensitivityType | Standard Output Sensitivity |
SerialNumber | 13003863 |
Shadows2012 | 0 |
ShadowTint | 0 |
SharpenDetail | 25 |
SharpenEdgeMasking | 0 |
SharpenRadius | +1.0 |
Sharpness (1) | 40 |
Sharpness | Normal |
ShutterSpeed | 33 |
ShutterSpeedValue | 33 |
Software | Adobe Photoshop 24.1 (Macintosh) |
SplitToningBalance | 0 |
SplitToningHighlightHue | 0 |
SplitToningHighlightSaturation | 0 |
SplitToningShadowHue | 0 |
SplitToningShadowSaturation | 0 |
StandardOutputSensitivity | 50 |
SubjectDistanceRange | Unknown |
Texture | 0 |
Tint | +23 |
ToneCurveName2012 | Linear |
ToneCurvePV2012 | 0, 0, 255, 255 |
ToneCurvePV2012Blue | 0, 0, 255, 255 |
ToneCurvePV2012Green | 0, 0, 255, 255 |
ToneCurvePV2012Red | 0, 0, 255, 255 |
URL_List | |
Version | 15.1 |
Vibrance | 0 |
VignetteAmount | 0 |
VignetteCorrectionAlreadyApplied | True |
WhiteBalance (1) | As Shot |
WhiteBalance | Auto |
Whites2012 | 0 |