Felt | Verdi |
AlreadyApplied | True |
Aperture | 16.0 |
ApertureValue | 16.0 |
ApproximateFocusDistance | 1.33 |
AutoLateralCA | 0 |
BitsPerSample | 8 |
Blacks2012 | -42 |
BlueHue | 0 |
BlueSaturation | 0 |
CameraProfile | Adobe Standard |
CFAPattern | [Red,Green][Green,Blue] |
CircleOfConfusion | 0.030 mm |
Clarity2012 | 0 |
ColorComponents | 3 |
ColorNoiseReduction | 25 |
ColorNoiseReductionDetail | 50 |
ColorTemperature | 5222 |
ColorTransform | YCbCr |
Contrast | Normal |
Contrast2012 | +29 |
ConvertToGrayscale | False |
CreateDate (1) | 2014:06:25 00:14:55.10 |
CreateDate | 2014:06:25 00:14:55 |
CreatorTool | Adobe Photoshop Lightroom 4.3 (Macintosh) |
CropAngle | 0 |
CropBottom | 1 |
CropConstrainToWarp | 0 |
CropHeight | 3881 |
CropLeft | 0 |
CropRight | 1 |
CropTop | 0.033645 |
CropUnit | pixels |
CropWidth | 6016 |
CustomRendered | Normal |
DateCreated (1) | 2014:06:25 |
DateCreated | 2014:06:25 00:14:55.10 |
DateTimeOriginal | 2014:06:25 00:14:55 |
DefringeGreenAmount | 0 |
DefringeGreenHueHi | 60 |
DefringeGreenHueLo | 40 |
DefringePurpleAmount | 0 |
DefringePurpleHueHi | 70 |
DefringePurpleHueLo | 30 |
DigitalZoomRatio | 1 |
DOF | inf (0.38 m - inf) |
Exposure2012 | -0.20 |
ExposureCompensation | 0 |
ExposureMode | Manual |
ExposureProgram | Manual |
ExposureTime | 1/5 |
Flash | Off, Did not fire |
FNumber | 16.0 |
FocalLength | 16.0 mm |
FocalLength35efl | 16.0 mm (35 mm equivalent: 16.0 mm) |
FocalLengthIn35mmFormat | 16 mm |
Format | image/jpeg |
FOV | 96.7 deg |
GainControl | None |
GradientBasedCorrActive | true |
GradientBasedCorrAmount | 1.000000 |
GradientBasedCorrBrightness | 0.000000 |
GradientBasedCorrClarity2012 | 0.213483 |
GradientBasedCorrContrast2012 | 0.280899 |
GradientBasedCorrDefringe | 0.000000 |
GradientBasedCorrExposure2012 | 0.056180 |
GradientBasedCorrHighlights2012 | -0.550562 |
GradientBasedCorrHue | 0.000000 |
GradientBasedCorrLuminanceNoise | 0.000000 |
GradientBasedCorrMaskFullX | 0.493134 |
GradientBasedCorrMaskFullY | -0.001869 |
GradientBasedCorrMaskValue | 1.000000 |
GradientBasedCorrMaskWhat | Mask/Gradient |
GradientBasedCorrMaskZeroX | 0.496879 |
GradientBasedCorrMaskZeroY | 1.007480 |
GradientBasedCorrMoire | 0.000000 |
GradientBasedCorrSaturation (1) | 0.393258 |
GradientBasedCorrSaturation | 0.000000 |
GradientBasedCorrShadows2012 | 0.168539 |
GradientBasedCorrSharpness | 0.000000 |
GradientBasedCorrTemperature | 0.595506 |
GradientBasedCorrTint | 0.000000 |
GradientBasedCorrWhat | Correction |
GrainAmount | 0 |
GreenHue | 0 |
GreenSaturation | 0 |
HasCrop | True |
HasSettings | True |
Highlights2012 | -53 |
HueAdjustmentAqua | 0 |
HueAdjustmentBlue | 0 |
HueAdjustmentGreen | 0 |
HueAdjustmentMagenta | 0 |
HueAdjustmentOrange | 0 |
HueAdjustmentPurple | 0 |
HueAdjustmentRed | 0 |
HueAdjustmentYellow | 0 |
HyperfocalDistance | 0.53 m |
ImageHeight | 3881 |
ImageNumber | 5188 |
ImageSize | 6016x3881 |
ImageWidth | 6016 |
ISO | 100 |
Lens | 16.0-35.0 mm f/4.0 |
LensID (1) | 163 |
LensID | AF-S Nikkor 16-35mm f/4G ED VR |
LensInfo | 16-35mm f/4 |
LensManualDistortionAmount | 0 |
LensModel | 16.0-35.0 mm f/4.0 |
LensProfileChromaticAberrationScale | 100 |
LensProfileDistortionScale | 100 |
LensProfileEnable | 1 |
LensProfileFilename | NIKON D3X (Nikon AF-S NIKKOR 16-35mm f4G ED VR) - RAW.lcp |
LensProfileName | Adobe (Nikon AF-S NIKKOR 16-35mm f/4G ED VR) |
LensProfileSetup | Custom |
LensProfileVignettingScale | 78 |
LightSource | Fine Weather |
LightValue | 10.3 |
LuminanceAdjustmentAqua | 0 |
LuminanceAdjustmentBlue | 0 |
LuminanceAdjustmentGreen | 0 |
LuminanceAdjustmentMagenta | 0 |
LuminanceAdjustmentOrange | 0 |
LuminanceAdjustmentPurple | 0 |
LuminanceAdjustmentRed | 0 |
LuminanceAdjustmentYellow | 0 |
LuminanceSmoothing | 0 |
Make | NIKON CORPORATION |
MaxApertureValue | 4.0 |
Megapixels | 23.3 |
MeteringMode | Spot |
Model | NIKON D600 |
ModifyDate (1) | 2012:06:26 02:39:03+02:00 |
ModifyDate | 2012:06:26 02:39:03 |
PaintCorrectionActive | true |
PaintCorrectionAmount | 1.000000 |
PaintCorrectionBrightness | 0.000000 |
PaintCorrectionClarity2012 | 0.000000 |
PaintCorrectionContrast2012 | 0.000000 |
PaintCorrectionDefringe | 0.000000 |
PaintCorrectionExposure2012 | 0.000000 |
PaintCorrectionHighlights2012 | 0.000000 |
PaintCorrectionHue | 0.000000 |
PaintCorrectionLuminanceNoise | 0.000000 |
PaintCorrectionMaskCenterWeight | 0.224934 |
PaintCorrectionMaskFlow | 0.706264 |
PaintCorrectionMaskRadius | 0.029621 |
PaintCorrectionMaskValue | 0.736264 |
PaintCorrectionMaskWhat | Mask/Paint |
PaintCorrectionMoire | 0.000000 |
PaintCorrectionSaturation | 0.000000 |
PaintCorrectionShadows2012 | 0.370787 |
PaintCorrectionSharpness | 0.000000 |
PaintCorrectionTemperature | 0.000000 |
PaintCorrectionTint | 0.000000 |
PaintCorrectionWhat | Correction |
ParametricDarks | +9 |
ParametricHighlights | -7 |
ParametricHighlightSplit | 75 |
ParametricLights | -3 |
ParametricMidtoneSplit | 50 |
ParametricShadows | -3 |
ParametricShadowSplit | 25 |
PerspectiveHorizontal | 0 |
PerspectiveRotate | 0.0 |
PerspectiveScale | 100 |
PerspectiveVertical | 0 |
PostCropVignetteAmount | 0 |
ProcessVersion | 6.7 |
ProfileDescription | sRGB IEC61966-2.1 |
RedHue | 0 |
RedSaturation | 0 |
Saturation (1) | 0 |
Saturation | High |
SaturationAdjustmentAqua | 0 |
SaturationAdjustmentBlue | 0 |
SaturationAdjustmentGreen | 0 |
SaturationAdjustmentMagenta | 0 |
SaturationAdjustmentOrange | 0 |
SaturationAdjustmentPurple | 0 |
SaturationAdjustmentRed | 0 |
SaturationAdjustmentYellow | 0 |
ScaleFactor35efl | 1.0 |
SceneCaptureType | Standard |
SceneType | Directly photographed |
SensingMethod | One-chip color area |
SensitivityType | Recommended Exposure Index |
SerialNumber | 6092303 |
Shadows2012 | +29 |
ShadowTint | 0 |
SharpenDetail | 25 |
SharpenEdgeMasking | 0 |
SharpenRadius | +1.0 |
Sharpness (1) | 48 |
Sharpness | Normal |
ShutterSpeed | 1/5 |
ShutterSpeedValue | 1/5 |
Software | Adobe Photoshop Lightroom 4.3 (Macintosh) |
SplitToningBalance | 0 |
SplitToningHighlightHue | 63 |
SplitToningHighlightSaturation | 7 |
SplitToningShadowHue | 0 |
SplitToningShadowSaturation | 0 |
SubjectDistanceRange | Unknown |
Tint | 0 |
ToneCurveName2012 | Linear |
ToneCurvePV2012 | 0, 0, 255, 255 |
ToneCurvePV2012Blue | 0, 0, 255, 255 |
ToneCurvePV2012Green | 0, 0, 255, 255 |
ToneCurvePV2012Red | 0, 0, 255, 255 |
Version | 7.3 |
Vibrance | +29 |
VignetteAmount | 0 |
WhiteBalance (1) | Custom |
WhiteBalance | Manual |
Whites2012 | +16 |