Felt | Verdi |
AlreadyApplied | True |
Aperture | 2.8 |
ApertureValue | 2.8 |
ApproximateFocusDistance | 10.59 |
Artist | CzeslawDabrowski |
AutoLateralCA | 1 |
AutoWhiteVersion | 134348800 |
BitsPerSample | 8 |
Blacks2012 | 0 |
BlueHue | 0 |
BlueSaturation | 0 |
By-line | CzeslawDabrowski |
CameraProfile | NikonD710017-50skrivepult |
CFAPattern | [Red,Green][Green,Blue] |
CircleOfConfusion | 0.020 mm |
Clarity2012 | 0 |
ColorComponents | 3 |
ColorMode | RGB |
ColorNoiseReduction | 25 |
ColorNoiseReductionDetail | 50 |
ColorNoiseReductionSmoothness | 50 |
ColorSpace | Uncalibrated |
ColorTemperature | 6400 |
ColorTransform | YCbCr |
Contrast | Normal |
Contrast2012 | 0 |
ConvertToGrayscale | False |
Copyright | Czeslaw Dabrowski |
CopyrightNotice | Czeslaw Dabrowski |
CreateDate | 2014:09:13 15:26:22 |
Creator | CzeslawDabrowski |
CreatorTool | DxO Optics Pro 9.5.1 |
CropAngle | 0 |
CropBottom | 1 |
CropConstrainToWarp | 0 |
CropLeft | 0 |
CropRight | 1 |
CropTop | 0 |
CustomRendered | Normal |
DateCreated (1) | 2014:09:13 |
DateCreated | 2014:09:13 15:26:22.003+02:00 |
DateTimeOriginal | 2014:09:13 15:26:22 |
DefringeGreenAmount | 0 |
DefringeGreenHueHi | 60 |
DefringeGreenHueLo | 40 |
DefringePurpleAmount | 0 |
DefringePurpleHueHi | 70 |
DefringePurpleHueLo | 30 |
DigitalZoomRatio | 1 |
DOF | 10.43 m (7.51 - 17.94 m) |
ExifImageHeight | 1298 |
ExifImageWidth | 1920 |
Exposure2012 | 0.00 |
ExposureCompensation | 0 |
ExposureMode | Auto |
ExposureProgram | Aperture-priority AE |
ExposureTime | 1/800 |
Flash | Off, Did not fire |
FNumber | 2.8 |
FocalLength | 38.0 mm |
FocalLength35efl | 38.0 mm (35 mm equivalent: 57.0 mm) |
FocalLengthIn35mmFormat | 57 mm |
Format | image/jpeg |
FOV | 35.1 deg |
GainControl | None |
GPSVersionID | 2.3.0.0 |
GrainAmount | 0 |
GreenHue | 0 |
GreenSaturation | 0 |
HasCrop | True |
HasExtendedXMP | 2BCB69BF7B5A037AA749549DFF343C4A |
HasSettings | True |
Highlights2012 | 0 |
HueAdjustmentAqua | 0 |
HueAdjustmentBlue | 0 |
HueAdjustmentGreen | 0 |
HueAdjustmentMagenta | 0 |
HueAdjustmentOrange | 0 |
HueAdjustmentPurple | 0 |
HueAdjustmentRed | 0 |
HueAdjustmentYellow | 0 |
HyperfocalDistance | 25.75 m |
ICCProfileName | ProPhoto RGB |
ImageHeight | 1298 |
ImageNumber | 13377 |
ImageSize | 1920x1298 |
ImageWidth | 1920 |
ISO | 100 |
Label | |
Lens | 17.0-50.0 mm f/2.8 |
LensID (1) | 157 |
LensID | Sigma 17-50mm F2.8 EX DC OS HSM |
LensInfo | 17-50mm f/2.8 |
LensManualDistortionAmount | 0 |
LensModel | 17.0-50.0 mm f/2.8 |
LensProfileChromaticAberrationScale | 100 |
LensProfileDistortionScale | 100 |
LensProfileEnable | 1 |
LensProfileFilename | NIKON CORPORATION (SIGMA 17-50mm F2.8 EX DC OS HSM) - RAW.lcp |
LensProfileName | Adobe (SIGMA 17-50mm F2.8 EX DC OS HSM, NIKON CORPORATION) |
LensProfileSetup | LensDefaults |
LensProfileVignettingScale | 100 |
LightSource | Unknown |
LightValue | 12.6 |
LuminanceAdjustmentAqua | 0 |
LuminanceAdjustmentBlue | 0 |
LuminanceAdjustmentGreen | 0 |
LuminanceAdjustmentMagenta | 0 |
LuminanceAdjustmentOrange | 0 |
LuminanceAdjustmentPurple | 0 |
LuminanceAdjustmentRed | 0 |
LuminanceAdjustmentYellow | 0 |
LuminanceSmoothing | 0 |
Make | NIKON CORPORATION |
MakerNoteSafety | Safe |
MaxApertureValue | 2.8 |
Megapixels | 2.5 |
MeteringMode | Multi-segment |
Model | NIKON D7100 |
ModifyDate (1) | 2014:09:19 21:26:53+02:00 |
ModifyDate | 2014:09:19 21:26:53 |
Orientation | Horizontal (normal) |
PaintCorrectionActive | true |
PaintCorrectionAmount | 1.000000 |
PaintCorrectionBrightness | 0.000000 |
PaintCorrectionClarity | 0.000000 |
PaintCorrectionClarity2012 (2) | 0.452380 |
PaintCorrectionClarity2012 | 0.023810 |
PaintCorrectionContrast | 0.000000 |
PaintCorrectionContrast2012 | 0.000000 |
PaintCorrectionDefringe | 0.000000 |
PaintCorrectionExposure | 0.000000 |
PaintCorrectionExposure2012 (1) | -0.500000 |
PaintCorrectionExposure2012 (2) | 0.452500 |
PaintCorrectionExposure2012 | -0.333250 |
PaintCorrectionHighlights2012 | 0.000000 |
PaintCorrectionHue | 240.000000 |
PaintCorrectionLuminanceNoise | 0.000000 |
PaintCorrectionMaskCenterWeight | 0.317924 |
PaintCorrectionMaskFlow (10) | 0.453164 |
PaintCorrectionMaskFlow (104) | 0.240260 |
PaintCorrectionMaskFlow (105) | 0.003852 |
PaintCorrectionMaskFlow (11) | 0.327498 |
PaintCorrectionMaskFlow (12) | 0.295691 |
PaintCorrectionMaskFlow (13) | 0.357003 |
PaintCorrectionMaskFlow (14) | 0.087401 |
PaintCorrectionMaskFlow (15) | 0.058731 |
PaintCorrectionMaskFlow (16) | 0.423953 |
PaintCorrectionMaskFlow (17) | 0.349829 |
PaintCorrectionMaskFlow (18) | 0.008777 |
PaintCorrectionMaskFlow (19) | 0.009647 |
PaintCorrectionMaskFlow (20) | 0.140420 |
PaintCorrectionMaskFlow (22) | 0.000884 |
PaintCorrectionMaskFlow (23) | 0.257071 |
PaintCorrectionMaskFlow (24) | 0.266532 |
PaintCorrectionMaskFlow (26) | 0.191441 |
PaintCorrectionMaskFlow (27) | 0.260247 |
PaintCorrectionMaskFlow (28) | 0.259719 |
PaintCorrectionMaskFlow (29) | 0.505000 |
PaintCorrectionMaskFlow (30) | 0.361577 |
PaintCorrectionMaskFlow (31) | 0.033484 |
PaintCorrectionMaskFlow (32) | 0.369352 |
PaintCorrectionMaskFlow (33) | 0.018277 |
PaintCorrectionMaskFlow (34) | 0.396333 |
PaintCorrectionMaskFlow (35) | 0.001766 |
PaintCorrectionMaskFlow (36) | 0.010516 |
PaintCorrectionMaskFlow (37) | 0.381711 |
PaintCorrectionMaskFlow (38) | 0.413659 |
PaintCorrectionMaskFlow (39) | 0.405650 |
PaintCorrectionMaskFlow (40) | 0.336403 |
PaintCorrectionMaskFlow (41) | 0.339475 |
PaintCorrectionMaskFlow (42) | 0.006041 |
PaintCorrectionMaskFlow (43) | 0.013099 |
PaintCorrectionMaskFlow (44) | 0.226981 |
PaintCorrectionMaskFlow (45) | 0.237843 |
PaintCorrectionMaskFlow (46) | 0.292496 |
PaintCorrectionMaskFlow (47) | 0.302464 |
PaintCorrectionMaskFlow (48) | 0.292801 |
PaintCorrectionMaskFlow (49) | 0.324274 |
PaintCorrectionMaskFlow (50) | 0.266994 |
PaintCorrectionMaskFlow (51) | 0.330180 |
PaintCorrectionMaskFlow (52) | 0.000565 |
PaintCorrectionMaskFlow (54) | 0.331016 |
PaintCorrectionMaskFlow (55) | 0.107535 |
PaintCorrectionMaskFlow (56) | 0.251147 |
PaintCorrectionMaskFlow (57) | 0.295238 |
PaintCorrectionMaskFlow (59) | 0.338743 |
PaintCorrectionMaskFlow (60) | 0.257819 |
PaintCorrectionMaskFlow (61) | 0.326534 |
PaintCorrectionMaskFlow (62) | 0.310449 |
PaintCorrectionMaskFlow (63) | 0.164483 |
PaintCorrectionMaskFlow (64) | 0.299769 |
PaintCorrectionMaskFlow (65) | 0.299468 |
PaintCorrectionMaskFlow (66) | 0.028006 |
PaintCorrectionMaskFlow (67) | 0.023258 |
PaintCorrectionMaskFlow (68) | 0.118740 |
PaintCorrectionMaskFlow (69) | 0.318570 |
PaintCorrectionMaskFlow (7) | 0.007032 |
PaintCorrectionMaskFlow (70) | 0.268612 |
PaintCorrectionMaskFlow (71) | 0.005495 |
PaintCorrectionMaskFlow (72) | 0.279461 |
PaintCorrectionMaskFlow (73) | 0.324557 |
PaintCorrectionMaskFlow (74) | 0.272792 |
PaintCorrectionMaskFlow (75) | 0.313076 |
PaintCorrectionMaskFlow (76) | 0.316266 |
PaintCorrectionMaskFlow (77) | 0.004948 |
PaintCorrectionMaskFlow (78) | 0.004400 |
PaintCorrectionMaskFlow (8) | 0.147850 |
PaintCorrectionMaskFlow (9) | 0.420436 |
PaintCorrectionMaskFlow | 0.378000 |
PaintCorrectionMaskRadius (1) | 0.051191 |
PaintCorrectionMaskRadius (10) | 0.006194 |
PaintCorrectionMaskRadius (100) | 0.003139 |
PaintCorrectionMaskRadius (102) | 0.022322 |
PaintCorrectionMaskRadius (105) | 0.006098 |
PaintCorrectionMaskRadius (106) | 0.009601 |
PaintCorrectionMaskRadius (19) | 0.022809 |
PaintCorrectionMaskRadius (79) | 0.010455 |
PaintCorrectionMaskRadius (80) | 0.010436 |
PaintCorrectionMaskRadius (82) | 0.010508 |
PaintCorrectionMaskRadius (83) | 0.010467 |
PaintCorrectionMaskRadius (84) | 0.003130 |
PaintCorrectionMaskRadius (88) | 0.003134 |
PaintCorrectionMaskRadius (90) | 0.003132 |
PaintCorrectionMaskRadius (92) | 0.003133 |
PaintCorrectionMaskRadius (93) | 0.003131 |
PaintCorrectionMaskRadius (96) | 0.003136 |
PaintCorrectionMaskRadius (98) | 0.003137 |
PaintCorrectionMaskRadius (99) | 0.003135 |
PaintCorrectionMaskRadius | 0.009603 |
PaintCorrectionMaskValue | 1.000000 |
PaintCorrectionMaskWhat | Mask/Paint |
PaintCorrectionMoire | 0.000000 |
PaintCorrectionSaturation (1) | 0.023810 |
PaintCorrectionSaturation (3) | 0.025715 |
PaintCorrectionSaturation | 0.000000 |
PaintCorrectionShadows2012 | 0.000000 |
PaintCorrectionSharpness (2) | 0.238100 |
PaintCorrectionSharpness | 0.000000 |
PaintCorrectionTemperature | 0.000000 |
PaintCorrectionTint | 0.000000 |
PaintCorrectionWhat | Correction |
ParametricDarks | 0 |
ParametricHighlights | 0 |
ParametricHighlightSplit | 75 |
ParametricLights | 0 |
ParametricMidtoneSplit | 50 |
ParametricShadows | 0 |
ParametricShadowSplit | 25 |
PerspectiveAspect | 0 |
PerspectiveHorizontal | 0 |
PerspectiveRotate | 0.0 |
PerspectiveScale | 100 |
PerspectiveUpright | 0 |
PerspectiveVertical | 0 |
PostCropVignetteAmount | -76 |
PostCropVignetteFeather | 50 |
PostCropVignetteHighlightContrast | 0 |
PostCropVignetteMidpoint | 50 |
PostCropVignetteRoundness | 0 |
PostCropVignetteStyle | 1 |
ProcessVersion | 6.7 |
ProfileDescription | ProPhoto RGB |
Rating | 0 |
RawFileName | _CDN2121_DxO.dng |
RedHue | 0 |
RedSaturation | 0 |
Rights | Czeslaw Dabrowski |
Saturation (1) | 0 |
Saturation | Normal |
SaturationAdjustmentAqua | 0 |
SaturationAdjustmentBlue | 0 |
SaturationAdjustmentGreen | 0 |
SaturationAdjustmentMagenta | 0 |
SaturationAdjustmentOrange | 0 |
SaturationAdjustmentPurple | 0 |
SaturationAdjustmentRed | 0 |
SaturationAdjustmentYellow | 0 |
ScaleFactor35efl | 1.5 |
SceneCaptureType | Landscape |
SceneType | Directly photographed |
SensingMethod | One-chip color area |
SerialNumber | 4403099 |
Shadows2012 | 0 |
ShadowTint | 0 |
SharpenDetail | 25 |
SharpenEdgeMasking | 0 |
SharpenRadius | +1.0 |
Sharpness (1) | 25 |
Sharpness | Normal |
ShutterSpeed | 1/800 |
ShutterSpeedValue | 1/800 |
Software | Adobe Photoshop CC 2014 (Windows) |
SplitToningBalance | 0 |
SplitToningHighlightHue | 0 |
SplitToningHighlightSaturation | 0 |
SplitToningShadowHue | 0 |
SplitToningShadowSaturation | 0 |
SubjectDistance | 10.59 m |
SubjectDistanceRange | Unknown |
Tint | +27 |
ToneCurve | 0, 0, 32, 22, 64, 56, 128, 128, 192, 196, 255, 255 |
ToneCurveBlue | 0, 0, 255, 255 |
ToneCurveGreen | 0, 0, 255, 255 |
ToneCurveName | Medium Contrast |
ToneCurveName2012 | Linear |
ToneCurvePV2012 | 0, 0, 255, 255 |
ToneCurvePV2012Blue | 0, 0, 255, 255 |
ToneCurvePV2012Green | 0, 0, 255, 255 |
ToneCurvePV2012Red | 0, 0, 255, 255 |
ToneCurveRed | 0, 0, 255, 255 |
URL_List | |
UserComment | ASCII |
Version | 8.6 |
Vibrance | 0 |
VignetteAmount | 0 |
WhiteBalance (1) | As Shot |
WhiteBalance | Auto |
Whites2012 | 0 |